{"text_format":"3","workbook":"xlsx","n_sheets":2,"sheets":["fullhard","20250416"],"not_rendered":{"defined_names":3},"read":"whole","date_system":"1900"}

{"sheet":"fullhard","index":0,"n_rows":173,"n_cols":7,"rows_kept":173}
[]
[null,"ID","Categoria","Spessore\n(mm)","Larghezza\n(mm)","Peso\n(kg)","kg / mm"]
[null,"FH000119001","Fullhard",0.26,{"v":1161,"d":"1,161"},{"v":2348,"d":"2,348"},{"$f":"F3/E3","v":{"v":2.0223944875107667,"d":"2.02"}}]
[null,"FH000119002","Fullhard",0.26,{"v":1162,"d":"1,162"},{"v":3864,"d":"3,864"},{"v":3.325301204819277,"d":"3.33"}]
[null,"FH000119003","Fullhard",0.27,{"v":1005,"d":"1,005"},{"v":5592,"d":"5,592"},{"v":5.564179104477612,"d":"5.56"}]
[null,"FH000119004","Fullhard",0.28,{"v":1055,"d":"1,055"},{"v":9764,"d":"9,764"},{"v":9.254976303317536,"d":"9.25"}]
[null,"FH000119012","Fullhard",0.28,{"v":1186,"d":"1,186"},{"v":5840,"d":"5,840"},{"v":4.924114671163575,"d":"4.92"}]
[null,"FH000119006","Fullhard",0.28,{"v":1205,"d":"1,205"},{"v":4275,"d":"4,275"},{"v":3.5477178423236513,"d":"3.55"}]
[null,"FH000119005","Fullhard",0.28,{"v":1255,"d":"1,255"},{"v":2600,"d":"2,600"},{"v":2.0717131474103585,"d":"2.07"}]
[null,"FH000119007","Fullhard",0.28,{"v":1255,"d":"1,255"},{"v":3600,"d":"3,600"},{"v":2.8685258964143427,"d":"2.87"}]
[null,"FH000119008","Fullhard",0.28,{"v":1255,"d":"1,255"},{"v":3000,"d":"3,000"},{"v":2.3904382470119523,"d":"2.39"}]
[null,"FH000119009","Fullhard",0.28,{"v":1255,"d":"1,255"},{"v":3900,"d":"3,900"},{"v":3.1075697211155378,"d":"3.11"}]
[null,"FH000119010","Fullhard",0.28,{"v":1255,"d":"1,255"},{"v":2500,"d":"2,500"},{"v":1.9920318725099602,"d":"1.99"}]
[null,"FH000119011","Fullhard",0.28,{"v":1255,"d":"1,255"},{"v":2250,"d":"2,250"},{"v":1.792828685258964,"d":"1.79"}]
[null,"FH000119013","Fullhard",0.29,{"v":1200,"d":"1,200"},{"v":8554,"d":"8,554"},{"v":7.128333333333333,"d":"7.13"}]
[null,"FH000119014","Fullhard",{"v":0.3,"d":"0.30"},{"v":1170,"d":"1,170"},{"v":1562,"d":"1,562"},{"v":1.335042735042735,"d":"1.34"}]
[null,"FH000119015","Fullhard",{"v":0.3,"d":"0.30"},{"v":1170,"d":"1,170"},{"v":1500,"d":"1,500"},{"v":1.2820512820512822,"d":"1.28"}]
[null,"FH000119016","Fullhard",{"v":0.3,"d":"0.30"},{"v":1170,"d":"1,170"},{"v":4150,"d":"4,150"},{"v":3.547008547008547,"d":"3.55"}]
[null,"FH000119019","Fullhard",{"v":0.3,"d":"0.30"},{"v":1223,"d":"1,223"},{"v":2700,"d":"2,700"},{"v":2.2076860179885527,"d":"2.21"}]
[null,"FH000119017","Fullhard",{"v":0.3,"d":"0.30"},{"v":1255,"d":"1,255"},{"v":4310,"d":"4,310"},{"v":3.4342629482071714,"d":"3.43"}]
[null,"FH000119018","Fullhard",{"v":0.3,"d":"0.30"},{"v":1255,"d":"1,255"},{"v":5565,"d":"5,565"},{"v":4.434262948207171,"d":"4.43"}]
[null,"FH000119022","Fullhard",0.31,{"v":1055,"d":"1,055"},{"v":1062,"d":"1,062"},{"v":1.0066350710900474,"d":"1.01"}]
[null,"FH000119023","Fullhard",0.31,{"v":1071,"d":"1,071"},{"v":1400,"d":"1,400"},{"v":1.3071895424836601,"d":"1.31"}]
[null,"FH000119020","Fullhard",0.31,{"v":1075,"d":"1,075"},{"v":1239,"d":"1,239"},{"v":1.1525581395348836,"d":"1.15"}]
[null,"FH000119021","Fullhard",0.31,{"v":1075,"d":"1,075"},{"v":1809,"d":"1,809"},{"v":1.6827906976744187,"d":"1.68"}]
[null,"FH000119024","Fullhard",0.31,{"v":1297,"d":"1,297"},{"v":9635,"d":"9,635"},{"v":7.428681572860447,"d":"7.43"}]
[null,"FH000119029","Fullhard",0.32,975,{"v":6846,"d":"6,846"},{"v":7.021538461538461,"d":"7.02"}]
[null,"FH000119026","Fullhard",0.32,{"v":1060,"d":"1,060"},{"v":3120,"d":"3,120"},{"v":2.943396226415094,"d":"2.94"}]
[null,"FH000119032","Fullhard",0.32,{"v":1065,"d":"1,065"},{"v":2031,"d":"2,031"},{"v":1.9070422535211267,"d":"1.91"}]
[null,"FH000119031","Fullhard",0.32,{"v":1071,"d":"1,071"},{"v":2550,"d":"2,550"},{"v":2.380952380952381,"d":"2.38"}]
[null,"FH000119027","Fullhard",0.32,{"v":1235,"d":"1,235"},{"v":4300,"d":"4,300"},{"v":3.4817813765182186,"d":"3.48"}]
[null,"FH000119030","Fullhard",0.32,{"v":1235,"d":"1,235"},{"v":3224,"d":"3,224"},{"v":2.610526315789474,"d":"2.61"}]
[null,"FH000119028","Fullhard",0.32,{"v":1257,"d":"1,257"},{"v":12646,"d":"12,646"},{"v":10.060461416070009,"d":"10.06"}]
[null,"FH000119025","Fullhard",0.32,{"v":1325,"d":"1,325"},{"v":2075,"d":"2,075"},{"v":1.5660377358490567,"d":"1.57"}]
[null,"FH000119033","Fullhard",0.34,{"v":1005,"d":"1,005"},{"v":5000,"d":"5,000"},{"$f":"F35/E35","v":{"v":4.975124378109452,"d":"4.98"}}]
[null,"FH000119041","Fullhard",0.35,{"v":1000,"d":"1,000"},{"v":5160,"d":"5,160"},5.16]
[null,"FH000119034","Fullhard",0.35,{"v":1070,"d":"1,070"},{"v":2114,"d":"2,114"},{"v":1.9757009345794392,"d":"1.98"}]
[null,"FH000119035","Fullhard",0.35,{"v":1076,"d":"1,076"},{"v":4030,"d":"4,030"},{"v":3.7453531598513012,"d":"3.75"}]
[null,"FH000119037","Fullhard",0.35,{"v":1255,"d":"1,255"},{"v":2100,"d":"2,100"},{"v":1.6733067729083666,"d":"1.67"}]
[null,"FH000119038","Fullhard",0.35,{"v":1255,"d":"1,255"},{"v":2025,"d":"2,025"},{"v":1.6135458167330676,"d":"1.61"}]
[null,"FH000119040","Fullhard",0.35,{"v":1275,"d":"1,275"},{"v":3400,"d":"3,400"},{"v":2.6666666666666665,"d":"2.67"}]
[null,"FH000119036","Fullhard",0.35,{"v":1385,"d":"1,385"},{"v":4700,"d":"4,700"},{"v":3.3935018050541514,"d":"3.39"}]
[null,"FH000119039","Fullhard",0.35,{"v":1385,"d":"1,385"},{"v":2300,"d":"2,300"},{"v":1.660649819494585,"d":"1.66"}]
[null,"FH000119042","Fullhard",0.36,{"v":1091,"d":"1,091"},{"v":1500,"d":"1,500"},{"v":1.374885426214482,"d":"1.37"}]
[null,"FH000119044","Fullhard",0.38,{"v":1255,"d":"1,255"},{"v":4494,"d":"4,494"},{"v":3.5808764940239044,"d":"3.58"}]
[null,"FH000119045","Fullhard",{"v":0.4,"d":"0.40"},{"v":1030,"d":"1,030"},{"v":12273,"d":"12,273"},{"v":11.915533980582524,"d":"11.92"}]
[null,"FH000119048","Fullhard",{"v":0.4,"d":"0.40"},{"v":1227,"d":"1,227"},{"v":1902,"d":"1,902"},{"v":1.550122249388753,"d":"1.55"}]
[null,"FH000119049","Fullhard",{"v":0.4,"d":"0.40"},{"v":1257,"d":"1,257"},{"v":2370,"d":"2,370"},{"v":1.8854415274463008,"d":"1.89"}]
[null,"FH000119054","Fullhard",0.42,{"v":1072,"d":"1,072"},{"v":4980,"d":"4,980"},{"v":4.645522388059701,"d":"4.65"}]
[null,"FH000119052","Fullhard",0.42,{"v":1255,"d":"1,255"},{"v":1520,"d":"1,520"},{"v":1.2111553784860558,"d":"1.21"}]
[null,"FH000119053","Fullhard",0.42,{"v":1255,"d":"1,255"},{"v":6500,"d":"6,500"},{"v":5.179282868525896,"d":"5.18"}]
[null,"FH000119055","Fullhard",0.42,{"v":1255,"d":"1,255"},{"v":3900,"d":"3,900"},{"v":3.1075697211155378,"d":"3.11"}]
[null,"FH000119056","Fullhard",0.43,{"v":1392,"d":"1,392"},{"v":2400,"d":"2,400"},{"v":1.7241379310344827,"d":"1.72"}]
[null,"FH000119057","Fullhard",0.43,{"v":1392,"d":"1,392"},{"v":2900,"d":"2,900"},{"v":2.0833333333333335,"d":"2.08"}]
[null,"FH000119059","Fullhard",0.44,{"v":1150,"d":"1,150"},{"v":1335,"d":"1,335"},{"v":1.1608695652173913,"d":"1.16"}]
[null,"FH000119058","Fullhard",0.44,{"v":1257,"d":"1,257"},{"v":1786,"d":"1,786"},{"v":1.420843277645187,"d":"1.42"}]
[null,"FH000119071","Fullhard",0.45,{"v":1005,"d":"1,005"},{"v":4960,"d":"4,960"},{"v":4.935323383084577,"d":"4.94"}]
[null,"FH000119070","Fullhard",0.45,{"v":1090,"d":"1,090"},{"v":2391,"d":"2,391"},{"v":2.193577981651376,"d":"2.19"}]
[null,"FH000119067","Fullhard",0.45,{"v":1222,"d":"1,222"},{"v":3630,"d":"3,630"},{"v":2.9705400981996726,"d":"2.97"}]
[null,"FH000119063","Fullhard",0.45,{"v":1227,"d":"1,227"},{"v":27600,"d":"27,600"},{"v":22.493887530562347,"d":"22.49"}]
[null,"FH000119064","Fullhard",0.45,{"v":1255,"d":"1,255"},{"v":4700,"d":"4,700"},{"v":3.745019920318725,"d":"3.75"}]
[null,"FH000119068","Fullhard",0.45,{"v":1255,"d":"1,255"},{"v":2037,"d":"2,037"},{"$f":"F62/E62","v":{"v":1.6231075697211155,"d":"1.62"}}]
[null,"FH000119065","Fullhard",0.45,{"v":1256,"d":"1,256"},{"v":4610,"d":"4,610"},{"v":3.6703821656050954,"d":"3.67"}]
[null,"FH000119060","Fullhard",0.45,{"v":1257,"d":"1,257"},{"v":1280,"d":"1,280"},{"v":1.0182975338106603,"d":"1.02"}]
[null,"FH000119062","Fullhard",0.45,{"v":1257,"d":"1,257"},{"v":2500,"d":"2,500"},{"v":1.988862370723946,"d":"1.99"}]
[null,"FH000119066","Fullhard",0.45,{"v":1257,"d":"1,257"},{"v":1732,"d":"1,732"},{"v":1.3778838504375497,"d":"1.38"}]
[null,"FH000119069","Fullhard",0.45,{"v":1377,"d":"1,377"},{"v":1520,"d":"1,520"},{"v":1.1038489469862018,"d":"1.10"}]
[null,"FH000119073","Fullhard",0.47,{"v":1253,"d":"1,253"},{"v":1700,"d":"1,700"},{"v":1.3567438148443736,"d":"1.36"}]
[null,"FH000119072","Fullhard",0.47,{"v":1255,"d":"1,255"},{"v":1180,"d":"1,180"},{"v":0.9402390438247012,"d":"0.94"}]
[null,"FH000119074","Fullhard",0.48,{"v":1255,"d":"1,255"},{"v":14500,"d":"14,500"},{"v":11.55378486055777,"d":"11.55"}]
[null,"FH000119078","Fullhard",{"v":0.5,"d":"0.50"},{"v":1005,"d":"1,005"},{"v":3178,"d":"3,178"},{"v":3.162189054726368,"d":"3.16"}]
[null,"FH000119075","Fullhard",{"v":0.5,"d":"0.50"},{"v":1210,"d":"1,210"},{"v":1120,"d":"1,120"},{"v":0.9256198347107438,"d":"0.93"}]
[null,"FH000119080","Fullhard",{"v":0.5,"d":"0.50"},{"v":1227,"d":"1,227"},{"v":9993,"d":"9,993"},{"v":8.144254278728607,"d":"8.14"}]
[null,"FH000119079","Fullhard",{"v":0.5,"d":"0.50"},{"v":1257,"d":"1,257"},{"v":3400,"d":"3,400"},{"v":2.7048528241845666,"d":"2.70"}]
[null,"FH000119077","Fullhard",{"v":0.5,"d":"0.50"},{"v":1392,"d":"1,392"},{"v":1180,"d":"1,180"},{"v":0.8477011494252874,"d":"0.85"}]
[null,"FH000119076","Fullhard",{"v":0.5,"d":"0.50"},{"v":1506,"d":"1,506"},{"v":3160,"d":"3,160"},{"v":2.098273572377158,"d":"2.10"}]
[null,"FH000119081","Fullhard",0.51,{"v":1226,"d":"1,226"},{"v":2731,"d":"2,731"},{"v":2.227569331158238,"d":"2.23"}]
[null,"FH000119082","Fullhard",0.53,{"v":1250,"d":"1,250"},{"v":3330,"d":"3,330"},{"v":2.664,"d":"2.66"}]
[null,"FH000119091","Fullhard",0.55,914,{"v":9840,"d":"9,840"},{"v":10.76586433260394,"d":"10.77"}]
[null,"FH000119087","Fullhard",0.55,955,{"v":2049,"d":"2,049"},{"v":2.1455497382198954,"d":"2.15"}]
[null,"FH000119094","Fullhard",0.55,960,{"v":2032,"d":"2,032"},{"v":2.1166666666666667,"d":"2.12"}]
[null,"FH000119085","Fullhard",0.55,{"v":1005,"d":"1,005"},{"v":13530,"d":"13,530"},{"v":13.462686567164178,"d":"13.46"}]
[null,"FH000119084","Fullhard",0.55,{"v":1037,"d":"1,037"},{"v":14760,"d":"14,760"},{"v":14.233365477338477,"d":"14.23"}]
[null,"FH000119083","Fullhard",0.55,{"v":1257,"d":"1,257"},{"v":4160,"d":"4,160"},{"v":3.309466984884646,"d":"3.31"}]
[null,"FH000119086","Fullhard",0.55,{"v":1257,"d":"1,257"},{"v":2790,"d":"2,790"},{"v":2.2195704057279237,"d":"2.22"}]
[null,"FH000119088","Fullhard",0.55,{"v":1257,"d":"1,257"},{"v":2387,"d":"2,387"},{"v":1.8989657915672236,"d":"1.90"}]
[null,"FH000119092","Fullhard",0.55,{"v":1500,"d":"1,500"},{"v":2720,"d":"2,720"},{"v":1.8133333333333332,"d":"1.81"}]
[null,"FH000119095","Fullhard",0.55,{"v":1500,"d":"1,500"},{"v":7290,"d":"7,290"},4.86]
[null,"FH000119089","Fullhard",0.55,{"v":1534,"d":"1,534"},{"v":4759,"d":"4,759"},{"v":3.1023468057366363,"d":"3.10"}]
[null,"FH000119096","Fullhard",0.56,{"v":1505,"d":"1,505"},{"v":3447,"d":"3,447"},{"v":2.2903654485049834,"d":"2.29"}]
[null,"FH000119097","Fullhard",0.57,{"v":1227,"d":"1,227"},{"v":6034,"d":"6,034"},{"v":4.9176854115729425,"d":"4.92"}]
[null,"FH000119098","Fullhard",{"v":0.6,"d":"0.60"},{"v":1505,"d":"1,505"},{"v":4260,"d":"4,260"},{"$f":"F92/E92","v":{"v":2.830564784053156,"d":"2.83"}}]
[null,"FH000119101","Fullhard",0.61,{"v":1156,"d":"1,156"},{"v":3560,"d":"3,560"},{"v":3.0795847750865053,"d":"3.08"}]
[null,"FH000119099","Fullhard",0.61,{"v":1255,"d":"1,255"},{"v":4000,"d":"4,000"},{"v":3.187250996015936,"d":"3.19"}]
[null,"FH000119100","Fullhard",0.61,{"v":1505,"d":"1,505"},{"v":3930,"d":"3,930"},{"v":2.611295681063123,"d":"2.61"}]
[null,"FH000119102","Fullhard",0.62,{"v":1506,"d":"1,506"},{"v":1707,"d":"1,707"},{"v":1.1334661354581674,"d":"1.13"}]
[null,"FH000119103","Fullhard",0.66,{"v":1224,"d":"1,224"},{"v":2943,"d":"2,943"},{"v":2.4044117647058822,"d":"2.40"}]
[null,"FH000119104","Fullhard",{"v":0.7,"d":"0.70"},{"v":1254,"d":"1,254"},{"v":1990,"d":"1,990"},{"v":1.5869218500797448,"d":"1.59"}]
[null,"FH000119105","Fullhard",{"v":0.7,"d":"0.70"},{"v":1257,"d":"1,257"},{"v":5470,"d":"5,470"},{"v":4.351630867143994,"d":"4.35"}]
[null,"FH000119107","Fullhard",0.74,{"v":1257,"d":"1,257"},{"v":1786,"d":"1,786"},{"v":1.420843277645187,"d":"1.42"}]
[null,"FH000119106","Fullhard",0.74,{"v":1260,"d":"1,260"},{"v":2009,"d":"2,009"},{"v":1.5944444444444446,"d":"1.59"}]
[null,"FH000119110","Fullhard",{"v":0.8,"d":"0.80"},{"v":1005,"d":"1,005"},{"v":4210,"d":"4,210"},{"v":4.189054726368159,"d":"4.19"}]
[null,"FH000119112","Fullhard",{"v":0.8,"d":"0.80"},{"v":1073,"d":"1,073"},{"v":1855,"d":"1,855"},{"v":1.7287977632805218,"d":"1.73"}]
[null,"FH000119111","Fullhard",{"v":0.8,"d":"0.80"},{"v":1255,"d":"1,255"},{"v":4550,"d":"4,550"},{"v":3.6254980079681274,"d":"3.63"}]
[null,"FH000119113","Fullhard",{"v":0.8,"d":"0.80"},{"v":1505,"d":"1,505"},{"v":2820,"d":"2,820"},{"v":1.8737541528239203,"d":"1.87"}]
[null,"FH000119108","Fullhard",{"v":0.8,"d":"0.80"},{"v":1507,"d":"1,507"},{"v":1360,"d":"1,360"},{"v":0.9024552090245521,"d":"0.90"}]
[null,"FH000119114","Fullhard",0.82,{"v":1517,"d":"1,517"},{"v":2870,"d":"2,870"},{"v":1.8918918918918919,"d":"1.89"}]
[null,"FH000119116","Fullhard",{"v":0.9,"d":"0.90"},{"v":1265,"d":"1,265"},{"v":1680,"d":"1,680"},{"v":1.3280632411067195,"d":"1.33"}]
[null,"FH000119115","Fullhard",{"v":0.9,"d":"0.90"},{"v":1505,"d":"1,505"},{"v":9080,"d":"9,080"},{"v":6.033222591362127,"d":"6.03"}]
[null,"FH000119118","Fullhard",0.95,{"v":1475,"d":"1,475"},{"v":2859,"d":"2,859"},{"v":1.9383050847457628,"d":"1.94"}]
[null,"FH000119119","Fullhard",0.96,950,{"v":3870,"d":"3,870"},{"v":4.073684210526316,"d":"4.07"}]
[null,"FH000119121","Fullhard",{"v":1,"d":"1.00"},963,{"v":4560,"d":"4,560"},{"v":4.735202492211838,"d":"4.74"}]
[null,"FH000119125","Fullhard",{"v":1,"d":"1.00"},{"v":1005,"d":"1,005"},{"v":2910,"d":"2,910"},{"v":2.8955223880597014,"d":"2.90"}]
[null,"FH000119123","Fullhard",{"v":1,"d":"1.00"},{"v":1150,"d":"1,150"},{"v":5802,"d":"5,802"},{"v":5.045217391304348,"d":"5.05"}]
[null,"FH000119120","Fullhard",{"v":1,"d":"1.00"},{"v":1255,"d":"1,255"},{"v":6740,"d":"6,740"},{"v":5.370517928286852,"d":"5.37"}]
[null,"FH000119122","Fullhard",{"v":1,"d":"1.00"},{"v":1505,"d":"1,505"},{"v":6620,"d":"6,620"},{"v":4.398671096345515,"d":"4.40"}]
[null,"FH000119124","Fullhard",{"v":1,"d":"1.00"},{"v":1505,"d":"1,505"},{"v":2900,"d":"2,900"},{"v":1.9269102990033222,"d":"1.93"}]
[null,"FH000119128","Fullhard",1.01,{"v":1236,"d":"1,236"},{"v":1730,"d":"1,730"},{"v":1.3996763754045307,"d":"1.40"}]
[null,"FH000119127","Fullhard",1.01,{"v":1255,"d":"1,255"},{"v":4881,"d":"4,881"},{"v":3.8892430278884462,"d":"3.89"}]
[null,"FH000119126","Fullhard",1.01,{"v":1357,"d":"1,357"},{"v":1150,"d":"1,150"},{"v":0.847457627118644,"d":"0.85"}]
[null,"FH000119129","Fullhard",1.15,{"v":1517,"d":"1,517"},{"v":21700,"d":"21,700"},{"v":14.304548450889914,"d":"14.30"}]
[null,"FH000119130","Fullhard",1.16,{"v":1227,"d":"1,227"},{"v":3600,"d":"3,600"},{"v":2.93398533007335,"d":"2.93"}]
[null,"FH000119131","Fullhard",1.19,{"v":1507,"d":"1,507"},{"v":4980,"d":"4,980"},{"$f":"F123/E123","v":{"v":3.3045786330457863,"d":"3.30"}}]
[null,"FH000119132","Fullhard",1.21,{"v":1275,"d":"1,275"},{"v":3540,"d":"3,540"},{"v":2.776470588235294,"d":"2.78"}]
[null,"FH000119133","Fullhard",1.26,{"v":1482,"d":"1,482"},{"v":6400,"d":"6,400"},{"v":4.318488529014845,"d":"4.32"}]
[null,"FH000119134","Fullhard",{"v":1.3,"d":"1.30"},{"v":1250,"d":"1,250"},{"v":2300,"d":"2,300"},1.84]
[null,"FH000119139","Fullhard",{"v":1.5,"d":"1.50"},{"v":1005,"d":"1,005"},{"v":1782,"d":"1,782"},{"v":1.773134328358209,"d":"1.77"}]
[null,"FH000119142","Fullhard",{"v":1.5,"d":"1.50"},{"v":1503,"d":"1,503"},{"v":3700,"d":"3,700"},{"v":2.4617431803060548,"d":"2.46"}]
[null,"FH000119137","Fullhard",{"v":1.5,"d":"1.50"},{"v":1504,"d":"1,504"},{"v":4300,"d":"4,300"},{"v":2.859042553191489,"d":"2.86"}]
[null,"FH000119138","Fullhard",{"v":1.5,"d":"1.50"},{"v":1505,"d":"1,505"},{"v":4880,"d":"4,880"},{"v":3.2425249169435215,"d":"3.24"}]
[null,"FH000119140","Fullhard",{"v":1.5,"d":"1.50"},{"v":1505,"d":"1,505"},{"v":3420,"d":"3,420"},{"v":2.272425249169435,"d":"2.27"}]
[null,"FH000119143","Fullhard",{"v":1.5,"d":"1.50"},{"v":1505,"d":"1,505"},{"v":4037,"d":"4,037"},{"v":2.682392026578073,"d":"2.68"}]
[null,"FH000119144","Fullhard",{"v":1.5,"d":"1.50"},{"v":1515,"d":"1,515"},{"v":4957,"d":"4,957"},{"v":3.271947194719472,"d":"3.27"}]
[null,"FH000119145","Fullhard",1.51,{"v":1485,"d":"1,485"},{"v":1850,"d":"1,850"},{"v":1.245791245791246,"d":"1.25"}]
[null,"FH000119153","Fullhard",1.52,{"v":1255,"d":"1,255"},{"v":3230,"d":"3,230"},{"v":2.5737051792828685,"d":"2.57"}]
[null,"FH000119149","Fullhard",1.52,{"v":1480,"d":"1,480"},{"v":5245,"d":"5,245"},{"v":3.543918918918919,"d":"3.54"}]
[null,"FH000119147","Fullhard",1.52,{"v":1500,"d":"1,500"},{"v":3930,"d":"3,930"},2.62]
[null,"FH000119148","Fullhard",1.52,{"v":1500,"d":"1,500"},{"v":5560,"d":"5,560"},{"v":3.7066666666666666,"d":"3.71"}]
[null,"FH000119150","Fullhard",1.52,{"v":1500,"d":"1,500"},{"v":3820,"d":"3,820"},{"v":2.546666666666667,"d":"2.55"}]
[null,"FH000119151","Fullhard",1.52,{"v":1500,"d":"1,500"},{"v":8000,"d":"8,000"},{"v":5.333333333333333,"d":"5.33"}]
[null,"FH000119146","Fullhard",1.52,{"v":1510,"d":"1,510"},{"v":4820,"d":"4,820"},{"v":3.19205298013245,"d":"3.19"}]
[null,"FH000119152","Fullhard",1.52,{"v":1515,"d":"1,515"},{"v":8000,"d":"8,000"},{"v":5.2805280528052805,"d":"5.28"}]
[null,"FH000119154","Fullhard",1.54,{"v":1505,"d":"1,505"},{"v":3060,"d":"3,060"},{"v":2.0332225913621262,"d":"2.03"}]
[null,"FH000119155","Fullhard",1.55,{"v":1380,"d":"1,380"},{"v":6476,"d":"6,476"},{"v":4.6927536231884055,"d":"4.69"}]
[null,"FH000119156","Fullhard",1.76,{"v":1515,"d":"1,515"},{"v":1900,"d":"1,900"},{"v":1.2541254125412542,"d":"1.25"}]
[null,"FH000119157","Fullhard",1.78,{"v":1505,"d":"1,505"},{"v":4830,"d":"4,830"},{"v":3.2093023255813953,"d":"3.21"}]
[null,"FH000119158","Fullhard",{"v":1.8,"d":"1.80"},{"v":1230,"d":"1,230"},{"v":3435,"d":"3,435"},{"v":2.792682926829268,"d":"2.79"}]
[null,"FH000119159","Fullhard",1.85,{"v":1227,"d":"1,227"},{"v":2590,"d":"2,590"},{"v":2.110839445802771,"d":"2.11"}]
[null,"FH000119160","Fullhard",1.86,{"v":1250,"d":"1,250"},{"v":1920,"d":"1,920"},{"v":1.536,"d":"1.54"}]
[null,"FH000119161","Fullhard",1.98,{"v":1500,"d":"1,500"},{"v":4000,"d":"4,000"},{"v":2.6666666666666665,"d":"2.67"}]
[null,"FH000119162","Fullhard",{"v":2,"d":"2.00"},{"v":1255,"d":"1,255"},{"v":3060,"d":"3,060"},{"v":2.4382470119521913,"d":"2.44"}]
[null,"FH000119163","Fullhard",2.01,{"v":1523,"d":"1,523"},{"v":4680,"d":"4,680"},{"v":3.072882468811556,"d":"3.07"}]
[null,"FH000119164","Fullhard",2.02,{"v":1506,"d":"1,506"},{"v":2750,"d":"2,750"},{"v":1.8260292164674634,"d":"1.83"}]
[null,"FH000119165","Fullhard",2.04,{"v":1504,"d":"1,504"},{"v":7700,"d":"7,700"},{"v":5.11968085106383,"d":"5.12"}]
[null,"FH000119166","Fullhard",2.04,{"v":1513,"d":"1,513"},{"v":2578,"d":"2,578"},{"$f":"F155/E155","v":{"v":1.703899537343027,"d":"1.70"}}]
[null,"FH000119167","Fullhard",2.09,{"v":1435,"d":"1,435"},{"v":1800,"d":"1,800"},{"v":1.254355400696864,"d":"1.25"}]
[null,"FH000119168","Fullhard",2.32,{"v":1227,"d":"1,227"},{"v":2930,"d":"2,930"},{"v":2.3879380603096982,"d":"2.39"}]
[null,"FH000119169","Fullhard",2.35,{"v":1265,"d":"1,265"},{"v":4040,"d":"4,040"},{"v":3.1936758893280635,"d":"3.19"}]
[null,"FH000119171","Fullhard",{"v":2.5,"d":"2.50"},{"v":1250,"d":"1,250"},{"v":9484,"d":"9,484"},{"v":7.5872,"d":"7.59"}]
[null,"FH000119170","Fullhard",{"v":2.5,"d":"2.50"},{"v":1480,"d":"1,480"},{"v":6940,"d":"6,940"},{"v":4.6891891891891895,"d":"4.69"}]
[null,"FH000119172","Fullhard",{"v":2.5,"d":"2.50"},{"v":1515,"d":"1,515"},{"v":4970,"d":"4,970"},{"v":3.2805280528052805,"d":"3.28"}]
[null,"FH000119173","Fullhard",2.56,{"v":1500,"d":"1,500"},{"v":3910,"d":"3,910"},{"v":2.6066666666666665,"d":"2.61"}]
[null,"FH000119174","Fullhard",2.75,{"v":1500,"d":"1,500"},{"v":3900,"d":"3,900"},{"v":2.6,"d":"2.60"}]
[null,"FH000119175","Fullhard",2.76,{"v":1500,"d":"1,500"},{"v":14200,"d":"14,200"},{"v":9.466666666666667,"d":"9.47"}]
[null,"FH000119176","Fullhard",2.84,{"v":1265,"d":"1,265"},{"v":3470,"d":"3,470"},{"v":2.7430830039525693,"d":"2.74"}]
[null,"FH000119178","Fullhard",{"v":3,"d":"3.00"},{"v":1255,"d":"1,255"},{"v":2681,"d":"2,681"},{"v":2.136254980079681,"d":"2.14"}]
[null,"FH000119179","Fullhard",{"v":3,"d":"3.00"},{"v":1255,"d":"1,255"},{"v":2057,"d":"2,057"},{"v":1.6390438247011951,"d":"1.64"}]
[null,"FH000119180","Fullhard",{"v":3,"d":"3.00"},{"v":1255,"d":"1,255"},{"v":2998,"d":"2,998"},{"v":2.388844621513944,"d":"2.39"}]
[null,"FH000119181","Fullhard",{"v":3,"d":"3.00"},{"v":1255,"d":"1,255"},{"v":2283,"d":"2,283"},{"v":1.8191235059760955,"d":"1.82"}]
[null,"FH000119182","Fullhard",{"v":3,"d":"3.00"},{"v":1255,"d":"1,255"},{"v":2693,"d":"2,693"},{"v":2.145816733067729,"d":"2.15"}]
[null,"FH000119177","Fullhard",{"v":3,"d":"3.00"},{"v":1275,"d":"1,275"},{"v":2520,"d":"2,520"},{"v":1.9764705882352942,"d":"1.98"}]
[null,"FH000119183","Fullhard",3.02,{"v":1504,"d":"1,504"},{"v":6561,"d":"6,561"},{"v":4.3623670212765955,"d":"4.36"}]
[{"$nulls":5},{"$f":"SUBTOTAL(9,F3:F172)","v":{"v":731299,"d":"731,299"}}]

{"sheet":"20250416","index":1,"n_rows":288,"n_cols":16,"rows_kept":288,"hidden":true}
[{"$nulls":4},"Marcegaglia | Gazoldo",{"$nulls":3},"2025-04-03"]
[null,"Partita","ID","ID","Categoria","Grado","Spessore\n(mm)","Larghezza\n(mm)","Peso\n(kg)","kg / mm","Pezzi","Commento","GSM","SID","SF","FM"]
[null,"25H8003409","SC000416001",1,"Laminato a freddo","DC04C490",0.78,{"v":406,"d":"406.00"},{"v":1796,"d":"1,796"},{"$f":"I3/K3/H3","v":{"v":4.4236453201970445,"d":"4.42"}},1,null,{"$f":"IFERROR(VLOOKUP(C3,#REF!,6,FALSE),\"\")","v":""},{"$f":"IFERROR(VLOOKUP(C3,#REF!,6,FALSE),\"\")","v":""},null,{"$f":"IFERROR(VLOOKUP(C3,#REF!,6,FALSE),\"\")","v":""}]
[null,"25H8003408","SC000416002",2,"Laminato a freddo","DC04C490",0.78,{"v":406,"d":"406.00"},{"v":1796,"d":"1,796"},{"v":4.4236453201970445,"d":"4.42"},1,null,{"$f":"IFERROR(VLOOKUP(C4,#REF!,6,FALSE),\"\")","v":""},{"$f":"IFERROR(VLOOKUP(C4,#REF!,6,FALSE),\"\")","v":""},null,{"$f":"IFERROR(VLOOKUP(C4,#REF!,6,FALSE),\"\")","v":""}]
[null,"25H8003407","SC000416003",3,"Laminato a freddo","DC04C490",0.78,{"v":440,"d":"440.00"},{"v":1946,"d":"1,946"},{"v":4.422727272727273,"d":"4.42"},1,null,{"$f":"IFERROR(VLOOKUP(C5,#REF!,6,FALSE),\"\")","v":""},{"$f":"IFERROR(VLOOKUP(C5,#REF!,6,FALSE),\"\")","v":""},null,{"$f":"IFERROR(VLOOKUP(C5,#REF!,6,FALSE),\"\")","v":""}]
[null,"24H8002600","SC000416004",4,"Decapato","DD13",{"v":3.5,"d":"3.50"},{"v":636,"d":"636.00"},{"v":6850,"d":"6,850"},{"v":10.770440251572326,"d":"10.77"},1,null,{"$f":"IFERROR(VLOOKUP(C6,#REF!,6,FALSE),\"\")","v":""},{"$f":"IFERROR(VLOOKUP(C6,#REF!,6,FALSE),\"\")","v":""},null,{"$f":"IFERROR(VLOOKUP(C6,#REF!,6,FALSE),\"\")","v":""}]
[null,"24H6006508","SC000416005",5,"Decapato","DD13",{"v":6.5,"d":"6.50"},{"v":888,"d":"888.00"},{"v":6430,"d":"6,430"},{"v":7.240990990990991,"d":"7.24"},1,null,{"$f":"IFERROR(VLOOKUP(C7,#REF!,6,FALSE),\"\")","v":""},{"$f":"IFERROR(VLOOKUP(C7,#REF!,6,FALSE),\"\")","v":""},null,{"$f":"IFERROR(VLOOKUP(C7,#REF!,6,FALSE),\"\")","v":""}]
[null,"25H6001459","SC000416006",6,"Decapato","DD13",{"v":6.5,"d":"6.50"},{"v":888,"d":"888.00"},{"v":5666,"d":"5,666"},{"v":6.38063063063063,"d":"6.38"},1,null,{"$f":"IFERROR(VLOOKUP(C8,#REF!,6,FALSE),\"\")","v":""},{"$f":"IFERROR(VLOOKUP(C8,#REF!,6,FALSE),\"\")","v":""},null,{"$f":"IFERROR(VLOOKUP(C8,#REF!,6,FALSE),\"\")","v":""}]
[null,"24H6006523","SC000416007",7,"Decapato","DD13",6.99,{"v":835,"d":"835.00"},{"v":5328,"d":"5,328"},{"v":6.380838323353293,"d":"6.38"},1,null,{"$f":"IFERROR(VLOOKUP(C9,#REF!,6,FALSE),\"\")","v":""},{"$f":"IFERROR(VLOOKUP(C9,#REF!,6,FALSE),\"\")","v":""},null,{"$f":"IFERROR(VLOOKUP(C9,#REF!,6,FALSE),\"\")","v":""}]
[null,"23AW023191","SC000416008",8,"Laminato a freddo","DC04",{"v":3,"d":"3.00"},{"v":417,"d":"417.00"},{"v":5840,"d":"5,840"},{"v":14.004796163069544,"d":"14.00"},1,null,{"$f":"IFERROR(VLOOKUP(C10,#REF!,6,FALSE),\"\")","v":""},{"$f":"IFERROR(VLOOKUP(C10,#REF!,6,FALSE),\"\")","v":""},null,{"$f":"IFERROR(VLOOKUP(C10,#REF!,6,FALSE),\"\")","v":""}]
[null,"24LU03****","SC000416009",9,"Elettro-zincato","DC01+ZE0/7,5",1.87,{"v":450,"d":"450.00"},{"v":6418,"d":"6,418"},{"v":14.262222222222222,"d":"14.26"},1,null,{"$f":"IFERROR(VLOOKUP(C11,#REF!,6,FALSE),\"\")","v":""},{"$f":"IFERROR(VLOOKUP(C11,#REF!,6,FALSE),\"\")","v":""},null,{"$f":"IFERROR(VLOOKUP(C11,#REF!,6,FALSE),\"\")","v":""}]
[null,"25H6002255","SC000416010",10,"Decapato","DD13",{"v":4.5,"d":"4.50"},{"v":240,"d":"240.00"},{"v":2669,"d":"2,669"},{"v":11.120833333333334,"d":"11.12"},1,null,{"$f":"IFERROR(VLOOKUP(C12,#REF!,6,FALSE),\"\")","v":""},{"$f":"IFERROR(VLOOKUP(C12,#REF!,6,FALSE),\"\")","v":""},null,{"$f":"IFERROR(VLOOKUP(C12,#REF!,6,FALSE),\"\")","v":""}]
[null,"25H6002252","SC000416011",11,"Decapato","DD13",{"v":4.5,"d":"4.50"},{"v":240,"d":"240.00"},{"v":2585,"d":"2,585"},{"v":10.770833333333334,"d":"10.77"},1,null,{"$f":"IFERROR(VLOOKUP(C13,#REF!,6,FALSE),\"\")","v":""},{"$f":"IFERROR(VLOOKUP(C13,#REF!,6,FALSE),\"\")","v":""},null,{"$f":"IFERROR(VLOOKUP(C13,#REF!,6,FALSE),\"\")","v":""}]
[null,"25H6002413","SC000416012",12,"Decapato","S500MC",{"v":4,"d":"4.00"},{"v":347,"d":"347.00"},{"v":3183,"d":"3,183"},{"v":9.172910662824208,"d":"9.17"},1,null,{"$f":"IFERROR(VLOOKUP(C14,#REF!,6,FALSE),\"\")","v":""},{"$f":"IFERROR(VLOOKUP(C14,#REF!,6,FALSE),\"\")","v":""},null,{"$f":"IFERROR(VLOOKUP(C14,#REF!,6,FALSE),\"\")","v":""}]
[null,"24RB045866","SC000416013",13,"Zincato","DX51D+Z275 MAC",{"v":2.5,"d":"2.50"},{"v":1250,"d":"1,250.00"},{"v":21400,"d":"21,400"},17.12,1,null,{"$f":"IFERROR(VLOOKUP(C15,#REF!,6,FALSE),\"\")","v":""},{"$f":"IFERROR(VLOOKUP(C15,#REF!,6,FALSE),\"\")","v":""},{"$f":"I15","v":{"v":21400,"d":"21,400"}},{"$f":"IFERROR(VLOOKUP(C15,#REF!,6,FALSE),\"\")","v":""}]
[null,"25H8003269","SC000416014",14,"Laminato a freddo - ricotto","C45E",1.19,{"v":520,"d":"520.00"},{"v":7357,"d":"7,357"},{"v":14.148076923076923,"d":"14.15"},1,null,{"$f":"IFERROR(VLOOKUP(C16,#REF!,6,FALSE),\"\")","v":""},{"$f":"IFERROR(VLOOKUP(C16,#REF!,6,FALSE),\"\")","v":""},null,{"$f":"IFERROR(VLOOKUP(C16,#REF!,6,FALSE),\"\")","v":""}]
[null,"25H8003269","SC000416015",15,"Laminato a freddo - ricotto","C45E",1.19,{"v":620,"d":"620.00"},{"v":8775,"d":"8,775"},{"v":14.153225806451612,"d":"14.15"},1,null,{"$f":"IFERROR(VLOOKUP(C17,#REF!,6,FALSE),\"\")","v":""},{"$f":"IFERROR(VLOOKUP(C17,#REF!,6,FALSE),\"\")","v":""},null,{"$f":"IFERROR(VLOOKUP(C17,#REF!,6,FALSE),\"\")","v":""}]
[null,"025G203384","SC000416016",16,"Laminato a freddo","DC04",0.71,{"v":51.5,"d":"51.50"},{"v":3482,"d":"3,482"},{"v":5.634304207119741,"d":"5.63"},12,null,{"$f":"IFERROR(VLOOKUP(C18,#REF!,6,FALSE),\"\")","v":""},{"$f":"IFERROR(VLOOKUP(C18,#REF!,6,FALSE),\"\")","v":""},null,{"$f":"IFERROR(VLOOKUP(C18,#REF!,6,FALSE),\"\")","v":""}]
[null,"25HB012042","SC000416017",17,"Laminato a freddo","HC380LA",{"v":1.5,"d":"1.50"},{"v":245,"d":"245.00"},{"v":1785,"d":"1,785"},{"v":7.285714285714286,"d":"7.29"},1,null,{"$f":"IFERROR(VLOOKUP(C19,#REF!,6,FALSE),\"\")","v":""},{"$f":"IFERROR(VLOOKUP(C19,#REF!,6,FALSE),\"\")","v":""},null,{"$f":"IFERROR(VLOOKUP(C19,#REF!,6,FALSE),\"\")","v":""}]
[null,"025G106718","SC000416018",18,"Laminato a freddo","DC05",0.59,{"v":51.5,"d":"51.50"},324,{"v":6.29126213592233,"d":"6.29"},1,null,{"$f":"IFERROR(VLOOKUP(C20,#REF!,6,FALSE),\"\")","v":""},{"$f":"IFERROR(VLOOKUP(C20,#REF!,6,FALSE),\"\")","v":""},null,{"$f":"IFERROR(VLOOKUP(C20,#REF!,6,FALSE),\"\")","v":""}]
[null,"25H8007788","SC000416019",19,"Laminato a freddo","DC01",2.91,{"v":155,"d":"155.00"},978,{"v":6.309677419354839,"d":"6.31"},1,null,{"$f":"I21","v":978},{"$f":"IFERROR(VLOOKUP(C21,#REF!,6,FALSE),\"\")","v":""},null,{"$f":"I21","v":978}]
[null,"25H8007793","SC000416020",19,"Laminato a freddo","DC01",2.91,{"v":155,"d":"155.00"},822,{"v":5.303225806451613,"d":"5.30"},1,null,{"$f":"I22","v":822},{"$f":"IFERROR(VLOOKUP(C22,#REF!,6,FALSE),\"\")","v":""},null,{"$f":"I22","v":822}]
[null,"25H8007783","SC000416021",19,"Laminato a freddo","DC01",2.91,{"v":155,"d":"155.00"},802,{"v":5.174193548387096,"d":"5.17"},1,null,{"$f":"I23","v":802},{"$f":"IFERROR(VLOOKUP(C23,#REF!,6,FALSE),\"\")","v":""},null,{"$f":"I23","v":802}]
[null,"25H8007778","SC000416022",19,"Laminato a freddo","DC01",2.91,{"v":155,"d":"155.00"},842,{"v":5.432258064516129,"d":"5.43"},1,null,{"$f":"I24","v":842},{"$f":"IFERROR(VLOOKUP(C24,#REF!,6,FALSE),\"\")","v":""},null,{"$f":"I24","v":842}]
[null,"25H8007718","SC000416023",20,"Laminato a freddo","DC01",2.91,{"v":115,"d":"115.00"},723,{"v":6.28695652173913,"d":"6.29"},1,null,{"$f":"I25","v":723},{"$f":"IFERROR(VLOOKUP(C25,#REF!,6,FALSE),\"\")","v":""},null,{"$f":"IFERROR(VLOOKUP(C25,#REF!,6,FALSE),\"\")","v":""}]
[null,"25H8007723","SC000416024",20,"Laminato a freddo","DC01",2.91,{"v":115,"d":"115.00"},747,{"v":6.495652173913044,"d":"6.50"},1,null,747,{"$f":"IFERROR(VLOOKUP(C26,#REF!,6,FALSE),\"\")","v":""},null,{"$f":"IFERROR(VLOOKUP(C26,#REF!,6,FALSE),\"\")","v":""}]
[null,"25H8007713","SC000416025",20,"Laminato a freddo","DC01",2.91,{"v":115,"d":"115.00"},755,{"v":6.565217391304348,"d":"6.57"},1,null,755,{"$f":"IFERROR(VLOOKUP(C27,#REF!,6,FALSE),\"\")","v":""},null,{"$f":"IFERROR(VLOOKUP(C27,#REF!,6,FALSE),\"\")","v":""}]
[null,"25H8007728","SC000416026",20,"Laminato a freddo","DC01",2.91,{"v":115,"d":"115.00"},804,{"v":6.991304347826087,"d":"6.99"},1,null,804,{"$f":"IFERROR(VLOOKUP(C28,#REF!,6,FALSE),\"\")","v":""},null,{"$f":"IFERROR(VLOOKUP(C28,#REF!,6,FALSE),\"\")","v":""}]
[null,"25H8007758","SC000416027",21,"Laminato a freddo","DC01",2.91,{"v":155,"d":"155.00"},914,{"v":5.896774193548387,"d":"5.90"},1,null,914,{"$f":"IFERROR(VLOOKUP(C29,#REF!,6,FALSE),\"\")","v":""},null,{"$f":"M29","v":914}]
[null,"25H8007798","SC000416028",21,"Laminato a freddo","DC01",2.91,{"v":155,"d":"155.00"},914,{"v":5.896774193548387,"d":"5.90"},1,null,914,{"$f":"IFERROR(VLOOKUP(C30,#REF!,6,FALSE),\"\")","v":""},null,{"$f":"M30","v":914}]
[null,"25H8007763","SC000416029",21,"Laminato a freddo","DC01",2.91,{"v":155,"d":"155.00"},914,{"v":5.896774193548387,"d":"5.90"},1,null,914,{"$f":"IFERROR(VLOOKUP(C31,#REF!,6,FALSE),\"\")","v":""},null,{"$f":"M31","v":914}]
[null,"25H8007753","SC000416030",21,"Laminato a freddo","DC01",2.91,{"v":155,"d":"155.00"},914,{"v":5.896774193548387,"d":"5.90"},1,null,914,{"$f":"IFERROR(VLOOKUP(C32,#REF!,6,FALSE),\"\")","v":""},null,{"$f":"M32","v":914}]
[null,"25H8007748","SC000416031",22,"Laminato a freddo","DC01",2.91,{"v":115,"d":"115.00"},838,{"v":7.28695652173913,"d":"7.29"},1,null,838,{"$f":"IFERROR(VLOOKUP(C33,#REF!,6,FALSE),\"\")","v":""},null,{"$f":"IFERROR(VLOOKUP(C33,#REF!,6,FALSE),\"\")","v":""}]
[null,"25H8007743","SC000416032",22,"Laminato a freddo","DC01",2.91,{"v":115,"d":"115.00"},924,{"v":8.034782608695652,"d":"8.03"},1,null,924,{"$f":"IFERROR(VLOOKUP(C34,#REF!,6,FALSE),\"\")","v":""},null,{"$f":"IFERROR(VLOOKUP(C34,#REF!,6,FALSE),\"\")","v":""}]
[null,"25H8007738","SC000416033",22,"Laminato a freddo","DC01",2.91,{"v":115,"d":"115.00"},771,{"v":6.7043478260869565,"d":"6.70"},1,null,771,{"$f":"IFERROR(VLOOKUP(C35,#REF!,6,FALSE),\"\")","v":""},null,{"$f":"IFERROR(VLOOKUP(C35,#REF!,6,FALSE),\"\")","v":""}]
[null,"25H8007733","SC000416034",22,"Laminato a freddo","DC01",2.91,{"v":115,"d":"115.00"},729,{"v":6.339130434782609,"d":"6.34"},1,null,729,{"$f":"IFERROR(VLOOKUP(C36,#REF!,6,FALSE),\"\")","v":""},null,{"$f":"IFERROR(VLOOKUP(C36,#REF!,6,FALSE),\"\")","v":""}]
[null,"25H8008840","SC000416035",23,"Laminato a freddo","DC05",{"v":0.5,"d":"0.50"},{"v":76,"d":"76.00"},900,{"v":11.842105263157896,"d":"11.84"},1,null,{"$f":"IFERROR(VLOOKUP(C37,#REF!,6,FALSE),\"\")","v":""},{"$f":"IFERROR(VLOOKUP(C37,#REF!,6,FALSE),\"\")","v":""},null,{"$f":"IFERROR(VLOOKUP(C37,#REF!,6,FALSE),\"\")","v":""}]
[null,"25H8008502","SC000416036",24,"Laminato a freddo","P05",1.18,{"v":91,"d":"91.00"},791,{"v":8.692307692307692,"d":"8.69"},1,null,{"$f":"IFERROR(VLOOKUP(C38,#REF!,6,FALSE),\"\")","v":""},{"$f":"IFERROR(VLOOKUP(C38,#REF!,6,FALSE),\"\")","v":""},null,{"$f":"IFERROR(VLOOKUP(C38,#REF!,6,FALSE),\"\")","v":""}]
[null,"25H8008503","SC000416037",24,"Laminato a freddo","P05",1.18,{"v":91,"d":"91.00"},805,{"v":8.846153846153847,"d":"8.85"},1,null,{"$f":"IFERROR(VLOOKUP(C39,#REF!,6,FALSE),\"\")","v":""},{"$f":"IFERROR(VLOOKUP(C39,#REF!,6,FALSE),\"\")","v":""},null,{"$f":"IFERROR(VLOOKUP(C39,#REF!,6,FALSE),\"\")","v":""}]
[null,"25H8008515","SC000416038",24,"Laminato a freddo","P05",1.18,{"v":91,"d":"91.00"},805,{"v":8.846153846153847,"d":"8.85"},1,null,{"$f":"IFERROR(VLOOKUP(C40,#REF!,6,FALSE),\"\")","v":""},{"$f":"IFERROR(VLOOKUP(C40,#REF!,6,FALSE),\"\")","v":""},null,{"$f":"IFERROR(VLOOKUP(C40,#REF!,6,FALSE),\"\")","v":""}]
[null,"25H8008490","SC000416039",24,"Laminato a freddo","P05",1.18,{"v":91,"d":"91.00"},791,{"v":8.692307692307692,"d":"8.69"},1,null,{"$f":"IFERROR(VLOOKUP(C41,#REF!,6,FALSE),\"\")","v":""},{"$f":"IFERROR(VLOOKUP(C41,#REF!,6,FALSE),\"\")","v":""},null,{"$f":"IFERROR(VLOOKUP(C41,#REF!,6,FALSE),\"\")","v":""}]
[null,"25H8008464","SC000416040",25,"Laminato a freddo","P05",1.18,{"v":91,"d":"91.00"},798,{"v":8.76923076923077,"d":"8.77"},1,null,{"$f":"IFERROR(VLOOKUP(C42,#REF!,6,FALSE),\"\")","v":""},{"$f":"IFERROR(VLOOKUP(C42,#REF!,6,FALSE),\"\")","v":""},null,{"$f":"IFERROR(VLOOKUP(C42,#REF!,6,FALSE),\"\")","v":""}]
[null,"25H8008476","SC000416041",25,"Laminato a freddo","P05",1.18,{"v":91,"d":"91.00"},798,{"v":8.76923076923077,"d":"8.77"},1,null,{"$f":"IFERROR(VLOOKUP(C43,#REF!,6,FALSE),\"\")","v":""},{"$f":"IFERROR(VLOOKUP(C43,#REF!,6,FALSE),\"\")","v":""},null,{"$f":"IFERROR(VLOOKUP(C43,#REF!,6,FALSE),\"\")","v":""}]
[null,"25H8008477","SC000416042",25,"Laminato a freddo","P05",1.18,{"v":91,"d":"91.00"},805,{"v":8.846153846153847,"d":"8.85"},1,null,{"$f":"IFERROR(VLOOKUP(C44,#REF!,6,FALSE),\"\")","v":""},{"$f":"IFERROR(VLOOKUP(C44,#REF!,6,FALSE),\"\")","v":""},null,{"$f":"IFERROR(VLOOKUP(C44,#REF!,6,FALSE),\"\")","v":""}]
[null,"25H8008489","SC000416043",25,"Laminato a freddo","P05",1.18,{"v":91,"d":"91.00"},805,{"v":8.846153846153847,"d":"8.85"},1,null,{"$f":"IFERROR(VLOOKUP(C45,#REF!,6,FALSE),\"\")","v":""},{"$f":"IFERROR(VLOOKUP(C45,#REF!,6,FALSE),\"\")","v":""},null,{"$f":"IFERROR(VLOOKUP(C45,#REF!,6,FALSE),\"\")","v":""}]
[null,"25H8008508","SC000416044",26,"Laminato a freddo","P05",{"v":1.2,"d":"1.20"},{"v":120,"d":"120.00"},{"v":1062,"d":"1,062"},8.85,1,null,{"$f":"IFERROR(VLOOKUP(C46,#REF!,6,FALSE),\"\")","v":""},{"$f":"IFERROR(VLOOKUP(C46,#REF!,6,FALSE),\"\")","v":""},null,{"$f":"IFERROR(VLOOKUP(C46,#REF!,6,FALSE),\"\")","v":""}]
[null,"25H8008509","SC000416045",26,"Laminato a freddo","P05",{"v":1.2,"d":"1.20"},{"v":120,"d":"120.00"},{"v":1062,"d":"1,062"},8.85,1,null,{"$f":"IFERROR(VLOOKUP(C47,#REF!,6,FALSE),\"\")","v":""},{"$f":"IFERROR(VLOOKUP(C47,#REF!,6,FALSE),\"\")","v":""},null,{"$f":"IFERROR(VLOOKUP(C47,#REF!,6,FALSE),\"\")","v":""}]
[null,"***","SC000416046",26,"Laminato a freddo","P05",{"v":1.2,"d":"1.20"},{"v":120,"d":"120.00"},{"v":1062,"d":"1,062"},8.85,1,null,{"$f":"IFERROR(VLOOKUP(C48,#REF!,6,FALSE),\"\")","v":""},{"$f":"IFERROR(VLOOKUP(C48,#REF!,6,FALSE),\"\")","v":""},null,{"$f":"IFERROR(VLOOKUP(C48,#REF!,6,FALSE),\"\")","v":""}]
[null,"***","SC000416047",26,"Laminato a freddo","P05",{"v":1.2,"d":"1.20"},{"v":120,"d":"120.00"},{"v":1062,"d":"1,062"},8.85,1,null,{"$f":"IFERROR(VLOOKUP(C49,#REF!,6,FALSE),\"\")","v":""},{"$f":"IFERROR(VLOOKUP(C49,#REF!,6,FALSE),\"\")","v":""},null,{"$f":"IFERROR(VLOOKUP(C49,#REF!,6,FALSE),\"\")","v":""}]
[null,"025G200396","SC000416048",27,"Laminato a freddo","DC01",{"v":1,"d":"1.00"},{"v":91,"d":"91.00"},{"v":1492,"d":"1,492"},{"v":8.197802197802197,"d":"8.20"},2,null,{"$f":"IFERROR(VLOOKUP(C50,#REF!,6,FALSE),\"\")","v":""},{"$f":"IFERROR(VLOOKUP(C50,#REF!,6,FALSE),\"\")","v":""},null,{"$f":"IFERROR(VLOOKUP(C50,#REF!,6,FALSE),\"\")","v":""}]
[null,"25H6002919","SC000416049",28,"Decapato","DD13",{"v":3,"d":"3.00"},{"v":120,"d":"120.00"},872,{"v":7.266666666666667,"d":"7.27"},1,null,{"$f":"IFERROR(VLOOKUP(C51,#REF!,6,FALSE),\"\")","v":""},{"$f":"IFERROR(VLOOKUP(C51,#REF!,6,FALSE),\"\")","v":""},null,{"$f":"IFERROR(VLOOKUP(C51,#REF!,6,FALSE),\"\")","v":""}]
[null,"24HB033208","SC000416050",29,"Laminato a freddo","DC01",{"v":1,"d":"1.00"},{"v":90,"d":"90.00"},{"v":1065,"d":"1,065"},{"v":11.833333333333334,"d":"11.83"},1,null,{"$f":"IFERROR(VLOOKUP(C52,#REF!,6,FALSE),\"\")","v":""},{"$f":"IFERROR(VLOOKUP(C52,#REF!,6,FALSE),\"\")","v":""},null,{"$f":"IFERROR(VLOOKUP(C52,#REF!,6,FALSE),\"\")","v":""}]
[null,"24HB033220","SC000416051",29,"Laminato a freddo","DC01",{"v":1,"d":"1.00"},{"v":90,"d":"90.00"},{"v":1065,"d":"1,065"},{"v":11.833333333333334,"d":"11.83"},1,null,{"$f":"IFERROR(VLOOKUP(C53,#REF!,6,FALSE),\"\")","v":""},{"$f":"IFERROR(VLOOKUP(C53,#REF!,6,FALSE),\"\")","v":""},null,{"$f":"IFERROR(VLOOKUP(C53,#REF!,6,FALSE),\"\")","v":""}]
[null,"024G211062","SC000416052",30,"Laminato a freddo","HC340LA",0.81,{"v":91,"d":"91.00"},{"v":1432,"d":"1,432"},{"v":7.868131868131868,"d":"7.87"},2,null,{"$f":"IFERROR(VLOOKUP(C54,#REF!,6,FALSE),\"\")","v":""},{"$f":"IFERROR(VLOOKUP(C54,#REF!,6,FALSE),\"\")","v":""},null,{"$f":"IFERROR(VLOOKUP(C54,#REF!,6,FALSE),\"\")","v":""}]
[null,"24HB033222","SC000416053",31,"Laminato a freddo","DC01",{"v":1,"d":"1.00"},{"v":90,"d":"90.00"},{"v":1065,"d":"1,065"},{"v":11.833333333333334,"d":"11.83"},1,null,{"$f":"IFERROR(VLOOKUP(C55,#REF!,6,FALSE),\"\")","v":""},{"$f":"IFERROR(VLOOKUP(C55,#REF!,6,FALSE),\"\")","v":""},null,{"$f":"IFERROR(VLOOKUP(C55,#REF!,6,FALSE),\"\")","v":""}]
[null,"24HB033221","SC000416054",31,"Laminato a freddo","DC01",{"v":1,"d":"1.00"},{"v":90,"d":"90.00"},{"v":1065,"d":"1,065"},{"v":11.833333333333334,"d":"11.83"},1,null,{"$f":"IFERROR(VLOOKUP(C56,#REF!,6,FALSE),\"\")","v":""},{"$f":"IFERROR(VLOOKUP(C56,#REF!,6,FALSE),\"\")","v":""},null,{"$f":"IFERROR(VLOOKUP(C56,#REF!,6,FALSE),\"\")","v":""}]
[null,"25H8003226","SC000416055",32,"Laminato a freddo","DC01",1.01,{"v":65,"d":"65.00"},{"v":1117,"d":"1,117"},{"v":17.184615384615384,"d":"17.18"},1,null,{"$f":"IFERROR(VLOOKUP(C57,#REF!,6,FALSE),\"\")","v":""},{"$f":"IFERROR(VLOOKUP(C57,#REF!,6,FALSE),\"\")","v":""},null,{"$f":"IFERROR(VLOOKUP(C57,#REF!,6,FALSE),\"\")","v":""}]
[null,"25H8003231","SC000416056",32,"Laminato a freddo","DC01",1.01,{"v":65,"d":"65.00"},{"v":1021,"d":"1,021"},{"v":15.707692307692307,"d":"15.71"},1,null,{"$f":"IFERROR(VLOOKUP(C58,#REF!,6,FALSE),\"\")","v":""},{"$f":"IFERROR(VLOOKUP(C58,#REF!,6,FALSE),\"\")","v":""},null,{"$f":"IFERROR(VLOOKUP(C58,#REF!,6,FALSE),\"\")","v":""}]
[null,"025G201950","SC000416057",33,"Laminato a freddo","DC01",0.91,{"v":81,"d":"81.00"},{"v":2264,"d":"2,264"},{"v":4.658436213991769,"d":"4.66"},6,null,{"$f":"IFERROR(VLOOKUP(C59,#REF!,6,FALSE),\"\")","v":""},{"$f":"IFERROR(VLOOKUP(C59,#REF!,6,FALSE),\"\")","v":""},null,{"$f":"IFERROR(VLOOKUP(C59,#REF!,6,FALSE),\"\")","v":""}]
[null,"025G201964","SC000416058",34,"Laminato a freddo","DC03",1.51,{"v":79,"d":"79.00"},{"v":1364,"d":"1,364"},{"v":8.632911392405063,"d":"8.63"},2,null,{"$f":"IFERROR(VLOOKUP(C60,#REF!,6,FALSE),\"\")","v":""},{"$f":"IFERROR(VLOOKUP(C60,#REF!,6,FALSE),\"\")","v":""},null,{"$f":"IFERROR(VLOOKUP(C60,#REF!,6,FALSE),\"\")","v":""}]
[null,"025G202219","SC000416059",35,"Laminato a freddo","DC01",1.01,{"v":81,"d":"81.00"},{"v":1422,"d":"1,422"},{"v":8.777777777777779,"d":"8.78"},2,null,{"$f":"IFERROR(VLOOKUP(C61,#REF!,6,FALSE),\"\")","v":""},{"$f":"IFERROR(VLOOKUP(C61,#REF!,6,FALSE),\"\")","v":""},null,{"$f":"IFERROR(VLOOKUP(C61,#REF!,6,FALSE),\"\")","v":""}]
[null,"025B203701","SC000416060",36,"Laminato a freddo","DC04",0.75,{"v":81,"d":"81.00"},{"v":1606,"d":"1,606"},{"v":9.91358024691358,"d":"9.91"},2,null,{"$f":"IFERROR(VLOOKUP(C62,#REF!,6,FALSE),\"\")","v":""},{"$f":"IFERROR(VLOOKUP(C62,#REF!,6,FALSE),\"\")","v":""},null,{"$f":"IFERROR(VLOOKUP(C62,#REF!,6,FALSE),\"\")","v":""}]
[null,"025B101398","SC000416061",37,"Laminato a freddo","DC01C390",{"v":1.5,"d":"1.50"},{"v":99,"d":"99.00"},{"v":2228,"d":"2,228"},{"v":3.750841750841751,"d":"3.75"},6,null,{"$f":"IFERROR(VLOOKUP(C63,#REF!,6,FALSE),\"\")","v":""},{"$f":"IFERROR(VLOOKUP(C63,#REF!,6,FALSE),\"\")","v":""},null,{"$f":"IFERROR(VLOOKUP(C63,#REF!,6,FALSE),\"\")","v":""}]
[null,"25HB006880","SC000416062",38,"Laminato a freddo","DC04",1.37,{"v":195,"d":"195.00"},862,{"v":4.420512820512821,"d":"4.42"},1,null,{"$f":"IFERROR(VLOOKUP(C64,#REF!,6,FALSE),\"\")","v":""},{"$f":"IFERROR(VLOOKUP(C64,#REF!,6,FALSE),\"\")","v":""},null,{"$f":"IFERROR(VLOOKUP(C64,#REF!,6,FALSE),\"\")","v":""}]
[null,"25HB006881","SC000416063",38,"Laminato a freddo","DC04",1.37,{"v":195,"d":"195.00"},862,{"v":4.420512820512821,"d":"4.42"},1,null,{"$f":"IFERROR(VLOOKUP(C65,#REF!,6,FALSE),\"\")","v":""},{"$f":"IFERROR(VLOOKUP(C65,#REF!,6,FALSE),\"\")","v":""},null,{"$f":"IFERROR(VLOOKUP(C65,#REF!,6,FALSE),\"\")","v":""}]
[null,"25HB006876","SC000416064",38,"Laminato a freddo","DC04",1.37,{"v":195,"d":"195.00"},862,{"v":4.420512820512821,"d":"4.42"},1,null,{"$f":"IFERROR(VLOOKUP(C66,#REF!,6,FALSE),\"\")","v":""},{"$f":"IFERROR(VLOOKUP(C66,#REF!,6,FALSE),\"\")","v":""},null,{"$f":"IFERROR(VLOOKUP(C66,#REF!,6,FALSE),\"\")","v":""}]
[null,"025G106350","SC000416065",39,"Laminato a freddo","DC03",1.36,{"v":93,"d":"93.00"},{"v":1444,"d":"1,444"},{"$f":"I67/K67/H67","v":{"v":5.175627240143369,"d":"5.18"}},3,null,{"$f":"IFERROR(VLOOKUP(C67,#REF!,6,FALSE),\"\")","v":""},{"$f":"IFERROR(VLOOKUP(C67,#REF!,6,FALSE),\"\")","v":""},null,{"$f":"IFERROR(VLOOKUP(C67,#REF!,6,FALSE),\"\")","v":""}]
[null,"025B202898","SC000416066",40,"Laminato a freddo","P05",1.19,{"v":91,"d":"91.00"},{"v":3162,"d":"3,162"},{"v":6.94945054945055,"d":"6.95"},5,null,{"$f":"IFERROR(VLOOKUP(C68,#REF!,6,FALSE),\"\")","v":""},{"$f":"IFERROR(VLOOKUP(C68,#REF!,6,FALSE),\"\")","v":""},null,{"$f":"IFERROR(VLOOKUP(C68,#REF!,6,FALSE),\"\")","v":""}]
[null,"25H8007390","SC000416067",41,"Laminato a freddo","RAD1",1.21,{"v":112,"d":"112.00"},379,{"v":3.3839285714285716,"d":"3.38"},1,null,{"$f":"IFERROR(VLOOKUP(C69,#REF!,6,FALSE),\"\")","v":""},{"$f":"IFERROR(VLOOKUP(C69,#REF!,6,FALSE),\"\")","v":""},null,{"$f":"IFERROR(VLOOKUP(C69,#REF!,6,FALSE),\"\")","v":""}]
[null,"25H8007389","SC000416068",41,"Laminato a freddo","RAD1",1.21,{"v":112,"d":"112.00"},379,{"v":3.3839285714285716,"d":"3.38"},1,null,{"$f":"IFERROR(VLOOKUP(C70,#REF!,6,FALSE),\"\")","v":""},{"$f":"IFERROR(VLOOKUP(C70,#REF!,6,FALSE),\"\")","v":""},null,{"$f":"IFERROR(VLOOKUP(C70,#REF!,6,FALSE),\"\")","v":""}]
[null,"25H8007382","SC000416069",41,"Laminato a freddo","RAD1",1.21,{"v":112,"d":"112.00"},385,{"v":3.4375,"d":"3.44"},1,null,{"$f":"IFERROR(VLOOKUP(C71,#REF!,6,FALSE),\"\")","v":""},{"$f":"IFERROR(VLOOKUP(C71,#REF!,6,FALSE),\"\")","v":""},null,{"$f":"IFERROR(VLOOKUP(C71,#REF!,6,FALSE),\"\")","v":""}]
[null,"25H8007381","SC000416070",41,"Laminato a freddo","RAD1",1.21,{"v":112,"d":"112.00"},385,{"v":3.4375,"d":"3.44"},1,null,{"$f":"IFERROR(VLOOKUP(C72,#REF!,6,FALSE),\"\")","v":""},{"$f":"IFERROR(VLOOKUP(C72,#REF!,6,FALSE),\"\")","v":""},null,{"$f":"IFERROR(VLOOKUP(C72,#REF!,6,FALSE),\"\")","v":""}]
[null,"25H8007394","SC000416071",41,"Laminato a freddo","RAD1",1.21,{"v":112,"d":"112.00"},442,{"v":3.9464285714285716,"d":"3.95"},1,null,{"$f":"IFERROR(VLOOKUP(C73,#REF!,6,FALSE),\"\")","v":""},{"$f":"IFERROR(VLOOKUP(C73,#REF!,6,FALSE),\"\")","v":""},null,{"$f":"IFERROR(VLOOKUP(C73,#REF!,6,FALSE),\"\")","v":""}]
[null,"025G104545","SC000416072",42,"Laminato a freddo","DC04",1.21,{"v":81,"d":"81.00"},{"v":1522,"d":"1,522"},{"v":6.2633744855967075,"d":"6.26"},3,null,{"$f":"IFERROR(VLOOKUP(C74,#REF!,6,FALSE),\"\")","v":""},{"$f":"IFERROR(VLOOKUP(C74,#REF!,6,FALSE),\"\")","v":""},null,{"$f":"IFERROR(VLOOKUP(C74,#REF!,6,FALSE),\"\")","v":""}]
[null,"025G201377","SC000416073",43,"Laminato a freddo","P05",1.18,{"v":91,"d":"91.00"},{"v":3012,"d":"3,012"},{"v":8.274725274725276,"d":"8.27"},4,null,{"$f":"IFERROR(VLOOKUP(C75,#REF!,6,FALSE),\"\")","v":""},{"$f":"IFERROR(VLOOKUP(C75,#REF!,6,FALSE),\"\")","v":""},null,{"$f":"IFERROR(VLOOKUP(C75,#REF!,6,FALSE),\"\")","v":""}]
[null,"025G201363","SC000416074",44,"Laminato a freddo","P05",1.19,{"v":91,"d":"91.00"},{"v":3180,"d":"3,180"},{"v":8.736263736263735,"d":"8.74"},4,null,{"$f":"IFERROR(VLOOKUP(C76,#REF!,6,FALSE),\"\")","v":""},{"$f":"IFERROR(VLOOKUP(C76,#REF!,6,FALSE),\"\")","v":""},null,{"$f":"IFERROR(VLOOKUP(C76,#REF!,6,FALSE),\"\")","v":""}]
[null,"024G217636","SC000416075",45,"Laminato a freddo","P05",1.18,{"v":91,"d":"91.00"},{"v":3468,"d":"3,468"},{"v":9.527472527472527,"d":"9.53"},4,null,{"$f":"IFERROR(VLOOKUP(C77,#REF!,6,FALSE),\"\")","v":""},{"$f":"IFERROR(VLOOKUP(C77,#REF!,6,FALSE),\"\")","v":""},null,{"$f":"IFERROR(VLOOKUP(C77,#REF!,6,FALSE),\"\")","v":""}]
[null,"024G217637","SC000416076",46,"Laminato a freddo","P05",1.18,{"v":91,"d":"91.00"},{"v":3490,"d":"3,490"},{"v":9.587912087912088,"d":"9.59"},4,null,{"$f":"IFERROR(VLOOKUP(C78,#REF!,6,FALSE),\"\")","v":""},{"$f":"IFERROR(VLOOKUP(C78,#REF!,6,FALSE),\"\")","v":""},null,{"$f":"IFERROR(VLOOKUP(C78,#REF!,6,FALSE),\"\")","v":""}]
[null,"025G201349","SC000416077",47,"Laminato a freddo","P05",1.18,{"v":91,"d":"91.00"},{"v":3438,"d":"3,438"},{"v":9.445054945054945,"d":"9.45"},4,null,{"$f":"IFERROR(VLOOKUP(C79,#REF!,6,FALSE),\"\")","v":""},{"$f":"IFERROR(VLOOKUP(C79,#REF!,6,FALSE),\"\")","v":""},null,{"$f":"IFERROR(VLOOKUP(C79,#REF!,6,FALSE),\"\")","v":""}]
[null,"025G201356","SC000416078",48,"Laminato a freddo","P05",1.19,{"v":91,"d":"91.00"},{"v":3222,"d":"3,222"},{"v":8.851648351648352,"d":"8.85"},4,null,{"$f":"IFERROR(VLOOKUP(C80,#REF!,6,FALSE),\"\")","v":""},{"$f":"IFERROR(VLOOKUP(C80,#REF!,6,FALSE),\"\")","v":""},null,{"$f":"IFERROR(VLOOKUP(C80,#REF!,6,FALSE),\"\")","v":""}]
[null,"025G200102","SC000416079",49,"Laminato a freddo","P05",1.18,{"v":91,"d":"91.00"},{"v":1168,"d":"1,168"},{"v":6.417582417582418,"d":"6.42"},2,null,{"$f":"IFERROR(VLOOKUP(C81,#REF!,6,FALSE),\"\")","v":""},{"$f":"IFERROR(VLOOKUP(C81,#REF!,6,FALSE),\"\")","v":""},null,{"$f":"IFERROR(VLOOKUP(C81,#REF!,6,FALSE),\"\")","v":""}]
[null,"025G200104","SC000416080",50,"Laminato a freddo","P05",1.18,{"v":91,"d":"91.00"},{"v":3480,"d":"3,480"},{"v":9.56043956043956,"d":"9.56"},4,null,{"$f":"IFERROR(VLOOKUP(C82,#REF!,6,FALSE),\"\")","v":""},{"$f":"IFERROR(VLOOKUP(C82,#REF!,6,FALSE),\"\")","v":""},null,{"$f":"IFERROR(VLOOKUP(C82,#REF!,6,FALSE),\"\")","v":""}]
[null,"024G217174","SC000416081",51,"Laminato a freddo","P05",1.19,{"v":91,"d":"91.00"},{"v":2648,"d":"2,648"},{"v":9.699633699633699,"d":"9.70"},3,null,{"$f":"IFERROR(VLOOKUP(C83,#REF!,6,FALSE),\"\")","v":""},{"$f":"IFERROR(VLOOKUP(C83,#REF!,6,FALSE),\"\")","v":""},null,{"$f":"IFERROR(VLOOKUP(C83,#REF!,6,FALSE),\"\")","v":""}]
[null,"024G217177","SC000416082",52,"Laminato a freddo","P05",1.19,{"v":91,"d":"91.00"},{"v":2542,"d":"2,542"},{"v":9.311355311355312,"d":"9.31"},3,null,{"$f":"IFERROR(VLOOKUP(C84,#REF!,6,FALSE),\"\")","v":""},{"$f":"IFERROR(VLOOKUP(C84,#REF!,6,FALSE),\"\")","v":""},null,{"$f":"IFERROR(VLOOKUP(C84,#REF!,6,FALSE),\"\")","v":""}]
[null,"025G200101","SC000416083",53,"Laminato a freddo","P05",1.18,{"v":91,"d":"91.00"},{"v":3270,"d":"3,270"},{"v":8.983516483516484,"d":"8.98"},4,null,{"$f":"IFERROR(VLOOKUP(C85,#REF!,6,FALSE),\"\")","v":""},{"$f":"IFERROR(VLOOKUP(C85,#REF!,6,FALSE),\"\")","v":""},null,{"$f":"IFERROR(VLOOKUP(C85,#REF!,6,FALSE),\"\")","v":""}]
[null,"025G200085","SC000416084",54,"Laminato a freddo","P05",1.18,{"v":91,"d":"91.00"},{"v":4376,"d":"4,376"},{"v":8.014652014652015,"d":"8.01"},6,null,{"$f":"IFERROR(VLOOKUP(C86,#REF!,6,FALSE),\"\")","v":""},{"$f":"IFERROR(VLOOKUP(C86,#REF!,6,FALSE),\"\")","v":""},null,{"$f":"IFERROR(VLOOKUP(C86,#REF!,6,FALSE),\"\")","v":""}]
[null,"024G217248","SC000416085",55,"Laminato a freddo","P05",1.18,{"v":91,"d":"91.00"},{"v":2122,"d":"2,122"},{"v":7.772893772893774,"d":"7.77"},3,null,{"$f":"IFERROR(VLOOKUP(C87,#REF!,6,FALSE),\"\")","v":""},{"$f":"IFERROR(VLOOKUP(C87,#REF!,6,FALSE),\"\")","v":""},null,{"$f":"IFERROR(VLOOKUP(C87,#REF!,6,FALSE),\"\")","v":""}]
[null,"024G217247","SC000416086",56,"Laminato a freddo","P05",1.18,{"v":91,"d":"91.00"},{"v":2024,"d":"2,024"},{"v":7.413919413919413,"d":"7.41"},3,null,{"$f":"IFERROR(VLOOKUP(C88,#REF!,6,FALSE),\"\")","v":""},{"$f":"IFERROR(VLOOKUP(C88,#REF!,6,FALSE),\"\")","v":""},null,{"$f":"IFERROR(VLOOKUP(C88,#REF!,6,FALSE),\"\")","v":""}]
[null,"024G217237","SC000416087",57,"Laminato a freddo","P05",1.17,{"v":91,"d":"91.00"},{"v":2786,"d":"2,786"},{"v":7.653846153846154,"d":"7.65"},4,null,{"$f":"IFERROR(VLOOKUP(C89,#REF!,6,FALSE),\"\")","v":""},{"$f":"IFERROR(VLOOKUP(C89,#REF!,6,FALSE),\"\")","v":""},null,{"$f":"IFERROR(VLOOKUP(C89,#REF!,6,FALSE),\"\")","v":""}]
[null,"025G200101","SC000416088",58,"Laminato a freddo","P05",1.18,{"v":91,"d":"91.00"},{"v":3270,"d":"3,270"},{"v":8.983516483516484,"d":"8.98"},4,null,{"$f":"IFERROR(VLOOKUP(C90,#REF!,6,FALSE),\"\")","v":""},{"$f":"IFERROR(VLOOKUP(C90,#REF!,6,FALSE),\"\")","v":""},null,{"$f":"IFERROR(VLOOKUP(C90,#REF!,6,FALSE),\"\")","v":""}]
[null,"025G107090","SC000416089",59,"Laminato a freddo","DC05",0.59,{"v":51.5,"d":"51.50"},424,{"v":8.233009708737864,"d":"8.23"},1,null,{"$f":"IFERROR(VLOOKUP(C91,#REF!,6,FALSE),\"\")","v":""},{"$f":"IFERROR(VLOOKUP(C91,#REF!,6,FALSE),\"\")","v":""},null,{"$f":"IFERROR(VLOOKUP(C91,#REF!,6,FALSE),\"\")","v":""}]
[null,"025G107094","SC000416090",60,"Laminato a freddo","DC05",0.59,{"v":51.5,"d":"51.50"},448,{"v":8.699029126213592,"d":"8.70"},1,null,{"$f":"IFERROR(VLOOKUP(C92,#REF!,6,FALSE),\"\")","v":""},{"$f":"IFERROR(VLOOKUP(C92,#REF!,6,FALSE),\"\")","v":""},null,{"$f":"IFERROR(VLOOKUP(C92,#REF!,6,FALSE),\"\")","v":""}]
[null,"24H8014153","SC000416091",61,"Laminato a freddo","DC05",1.34,{"v":63,"d":"63.00"},376,{"v":5.968253968253968,"d":"5.97"},1,null,{"$f":"IFERROR(VLOOKUP(C93,#REF!,6,FALSE),\"\")","v":""},{"$f":"IFERROR(VLOOKUP(C93,#REF!,6,FALSE),\"\")","v":""},null,{"$f":"IFERROR(VLOOKUP(C93,#REF!,6,FALSE),\"\")","v":""}]
[null,"24H8014140","SC000416092",62,"Laminato a freddo","DC05",1.34,{"v":63,"d":"63.00"},351,{"v":5.571428571428571,"d":"5.57"},1,null,{"$f":"IFERROR(VLOOKUP(C94,#REF!,6,FALSE),\"\")","v":""},{"$f":"IFERROR(VLOOKUP(C94,#REF!,6,FALSE),\"\")","v":""},null,{"$f":"IFERROR(VLOOKUP(C94,#REF!,6,FALSE),\"\")","v":""}]
[null,"24H8014127","SC000416093",63,"Laminato a freddo","DC05",1.34,{"v":63,"d":"63.00"},385,{"v":6.111111111111111,"d":"6.11"},1,null,{"$f":"IFERROR(VLOOKUP(C95,#REF!,6,FALSE),\"\")","v":""},{"$f":"IFERROR(VLOOKUP(C95,#REF!,6,FALSE),\"\")","v":""},null,{"$f":"IFERROR(VLOOKUP(C95,#REF!,6,FALSE),\"\")","v":""}]
[null,"24H80141**","SC000416094",64,"Laminato a freddo","DC05",1.34,{"v":63,"d":"63.00"},385,{"v":6.111111111111111,"d":"6.11"},1,null,{"$f":"IFERROR(VLOOKUP(C96,#REF!,6,FALSE),\"\")","v":""},{"$f":"IFERROR(VLOOKUP(C96,#REF!,6,FALSE),\"\")","v":""},null,{"$f":"IFERROR(VLOOKUP(C96,#REF!,6,FALSE),\"\")","v":""}]
[null,"25H8009028","SC000416095",65,"Zincato","DX51D+Z275 MAC",1.25,{"v":49,"d":"49.00"},160,{"v":3.2653061224489797,"d":"3.27"},1,null,{"$f":"IFERROR(VLOOKUP(C97,#REF!,6,FALSE),\"\")","v":""},{"$f":"IFERROR(VLOOKUP(C97,#REF!,6,FALSE),\"\")","v":""},null,{"$f":"IFERROR(VLOOKUP(C97,#REF!,6,FALSE),\"\")","v":""}]
[null,"25H8009031","SC000416096",65,"Zincato","DX51D+Z275 MAC",1.25,{"v":49,"d":"49.00"},166,{"v":3.3877551020408165,"d":"3.39"},1,null,{"$f":"IFERROR(VLOOKUP(C98,#REF!,6,FALSE),\"\")","v":""},{"$f":"IFERROR(VLOOKUP(C98,#REF!,6,FALSE),\"\")","v":""},null,{"$f":"IFERROR(VLOOKUP(C98,#REF!,6,FALSE),\"\")","v":""}]
[null,"25H8009034","SC000416097",65,"Zincato","DX51D+Z275 MAC",1.25,{"v":49,"d":"49.00"},166,{"v":3.3877551020408165,"d":"3.39"},1,null,{"$f":"IFERROR(VLOOKUP(C99,#REF!,6,FALSE),\"\")","v":""},{"$f":"IFERROR(VLOOKUP(C99,#REF!,6,FALSE),\"\")","v":""},null,{"$f":"IFERROR(VLOOKUP(C99,#REF!,6,FALSE),\"\")","v":""}]
[null,"25H8008588","SC000416098",66,"Zincato","S220GD+Z100 MBC",0.67,{"v":74,"d":"74.00"},258,{"v":3.4864864864864864,"d":"3.49"},1,null,{"$f":"IFERROR(VLOOKUP(C100,#REF!,6,FALSE),\"\")","v":""},{"$f":"IFERROR(VLOOKUP(C100,#REF!,6,FALSE),\"\")","v":""},null,{"$f":"IFERROR(VLOOKUP(C100,#REF!,6,FALSE),\"\")","v":""}]
[null,"25H8008591","SC000416099",66,"Zincato","S220GD+Z100 MBC",0.67,{"v":74,"d":"74.00"},253,{"v":3.418918918918919,"d":"3.42"},1,null,{"$f":"IFERROR(VLOOKUP(C101,#REF!,6,FALSE),\"\")","v":""},{"$f":"IFERROR(VLOOKUP(C101,#REF!,6,FALSE),\"\")","v":""},null,{"$f":"IFERROR(VLOOKUP(C101,#REF!,6,FALSE),\"\")","v":""}]
[null,"25H8008594","SC000416100",66,"Zincato","S220GD+Z100 MBC",0.67,{"v":74,"d":"74.00"},255,{"v":3.445945945945946,"d":"3.45"},1,null,{"$f":"IFERROR(VLOOKUP(C102,#REF!,6,FALSE),\"\")","v":""},{"$f":"IFERROR(VLOOKUP(C102,#REF!,6,FALSE),\"\")","v":""},null,{"$f":"IFERROR(VLOOKUP(C102,#REF!,6,FALSE),\"\")","v":""}]
[null,"25H8008597","SC000416101",66,"Zincato","S220GD+Z100 MBC",0.67,{"v":74,"d":"74.00"},253,{"v":3.418918918918919,"d":"3.42"},1,null,{"$f":"IFERROR(VLOOKUP(C103,#REF!,6,FALSE),\"\")","v":""},{"$f":"IFERROR(VLOOKUP(C103,#REF!,6,FALSE),\"\")","v":""},null,{"$f":"IFERROR(VLOOKUP(C103,#REF!,6,FALSE),\"\")","v":""}]
[null,"25H80085**","SC000416102",66,"Zincato","S220GD+Z100 MBC",0.67,{"v":74,"d":"74.00"},253,{"v":3.418918918918919,"d":"3.42"},1,null,{"$f":"IFERROR(VLOOKUP(C104,#REF!,6,FALSE),\"\")","v":""},{"$f":"IFERROR(VLOOKUP(C104,#REF!,6,FALSE),\"\")","v":""},null,{"$f":"IFERROR(VLOOKUP(C104,#REF!,6,FALSE),\"\")","v":""}]
[null,"025G105405","SC000416103",67,"Laminato a freddo","DC01",{"v":1,"d":"1.00"},{"v":59,"d":"59.00"},{"v":1433,"d":"1,433"},{"v":6.072033898305085,"d":"6.07"},4,null,{"$f":"IFERROR(VLOOKUP(C105,#REF!,6,FALSE),\"\")","v":""},{"$f":"IFERROR(VLOOKUP(C105,#REF!,6,FALSE),\"\")","v":""},null,{"$f":"IFERROR(VLOOKUP(C105,#REF!,6,FALSE),\"\")","v":""}]
[null,"025G105430","SC000416104",67,"Laminato a freddo","DC01",{"v":1,"d":"1.00"},{"v":59,"d":"59.00"},{"v":1401,"d":"1,401"},{"v":5.936440677966102,"d":"5.94"},4,null,{"$f":"IFERROR(VLOOKUP(C106,#REF!,6,FALSE),\"\")","v":""},{"$f":"IFERROR(VLOOKUP(C106,#REF!,6,FALSE),\"\")","v":""},null,{"$f":"IFERROR(VLOOKUP(C106,#REF!,6,FALSE),\"\")","v":""}]
[null,"025G105431","SC000416105",67,"Laminato a freddo","DC01",{"v":1,"d":"1.00"},{"v":81,"d":"81.00"},{"v":1963,"d":"1,963"},{"v":6.058641975308642,"d":"6.06"},4,null,{"$f":"IFERROR(VLOOKUP(C107,#REF!,6,FALSE),\"\")","v":""},{"$f":"IFERROR(VLOOKUP(C107,#REF!,6,FALSE),\"\")","v":""},null,{"$f":"IFERROR(VLOOKUP(C107,#REF!,6,FALSE),\"\")","v":""}]
[null,"25HB012257","SC000416106",68,"Laminato a freddo","DC05",{"v":0.6,"d":"0.60"},{"v":80,"d":"80.00"},787,{"v":9.8375,"d":"9.84"},1,null,{"$f":"IFERROR(VLOOKUP(C108,#REF!,6,FALSE),\"\")","v":""},{"$f":"IFERROR(VLOOKUP(C108,#REF!,6,FALSE),\"\")","v":""},null,{"$f":"IFERROR(VLOOKUP(C108,#REF!,6,FALSE),\"\")","v":""}]
[null,"25HB002727","SC000416107",69,"Laminato a freddo","DC05",1.35,{"v":91,"d":"91.00"},632,{"v":6.945054945054945,"d":"6.95"},1,null,{"$f":"IFERROR(VLOOKUP(C109,#REF!,6,FALSE),\"\")","v":""},{"$f":"IFERROR(VLOOKUP(C109,#REF!,6,FALSE),\"\")","v":""},null,{"$f":"IFERROR(VLOOKUP(C109,#REF!,6,FALSE),\"\")","v":""}]
[null,"25HB002717","SC000416108",69,"Laminato a freddo","DC05",1.35,{"v":91,"d":"91.00"},632,{"v":6.945054945054945,"d":"6.95"},1,null,{"$f":"IFERROR(VLOOKUP(C110,#REF!,6,FALSE),\"\")","v":""},{"$f":"IFERROR(VLOOKUP(C110,#REF!,6,FALSE),\"\")","v":""},null,{"$f":"IFERROR(VLOOKUP(C110,#REF!,6,FALSE),\"\")","v":""}]
[null,"25HB002661","SC000416109",70,"Laminato a freddo","DC05",1.35,{"v":91,"d":"91.00"},652,{"v":7.164835164835165,"d":"7.16"},1,null,{"$f":"IFERROR(VLOOKUP(C111,#REF!,6,FALSE),\"\")","v":""},{"$f":"IFERROR(VLOOKUP(C111,#REF!,6,FALSE),\"\")","v":""},null,{"$f":"IFERROR(VLOOKUP(C111,#REF!,6,FALSE),\"\")","v":""}]
[null,"25HB002651","SC000416110",70,"Laminato a freddo","DC05",1.35,{"v":91,"d":"91.00"},652,{"v":7.164835164835165,"d":"7.16"},1,null,{"$f":"IFERROR(VLOOKUP(C112,#REF!,6,FALSE),\"\")","v":""},{"$f":"IFERROR(VLOOKUP(C112,#REF!,6,FALSE),\"\")","v":""},null,{"$f":"IFERROR(VLOOKUP(C112,#REF!,6,FALSE),\"\")","v":""}]
[null,"25HB0026**","SC000416111",70,"Laminato a freddo","DC05",1.35,{"v":91,"d":"91.00"},659,{"v":7.241758241758242,"d":"7.24"},1,null,{"$f":"IFERROR(VLOOKUP(C113,#REF!,6,FALSE),\"\")","v":""},{"$f":"IFERROR(VLOOKUP(C113,#REF!,6,FALSE),\"\")","v":""},null,{"$f":"IFERROR(VLOOKUP(C113,#REF!,6,FALSE),\"\")","v":""}]
[null,"25HB002640","SC000416112",70,"Laminato a freddo","DC05",1.35,{"v":91,"d":"91.00"},659,{"v":7.241758241758242,"d":"7.24"},1,null,{"$f":"IFERROR(VLOOKUP(C114,#REF!,6,FALSE),\"\")","v":""},{"$f":"IFERROR(VLOOKUP(C114,#REF!,6,FALSE),\"\")","v":""},null,{"$f":"IFERROR(VLOOKUP(C114,#REF!,6,FALSE),\"\")","v":""}]
[null,"025G201307","SC000416113",71,"Laminato a freddo","DC01",0.71,{"v":145,"d":"145.00"},{"v":1014,"d":"1,014"},{"v":3.496551724137931,"d":"3.50"},2,null,{"$f":"IFERROR(VLOOKUP(C115,#REF!,6,FALSE),\"\")","v":""},{"$f":"IFERROR(VLOOKUP(C115,#REF!,6,FALSE),\"\")","v":""},null,{"$f":"IFERROR(VLOOKUP(C115,#REF!,6,FALSE),\"\")","v":""}]
[null,"025G201306","SC000416114",72,"Laminato a freddo","DC01",0.71,{"v":145,"d":"145.00"},{"v":1036,"d":"1,036"},{"v":3.5724137931034483,"d":"3.57"},2,null,{"$f":"IFERROR(VLOOKUP(C116,#REF!,6,FALSE),\"\")","v":""},{"$f":"IFERROR(VLOOKUP(C116,#REF!,6,FALSE),\"\")","v":""},null,{"$f":"IFERROR(VLOOKUP(C116,#REF!,6,FALSE),\"\")","v":""}]
[null,"025G201316","SC000416115",73,"Laminato a freddo","DC01",0.71,{"v":134,"d":"134.00"},{"v":2228,"d":"2,228"},{"v":4.156716417910448,"d":"4.16"},4,null,{"$f":"IFERROR(VLOOKUP(C117,#REF!,6,FALSE),\"\")","v":""},{"$f":"IFERROR(VLOOKUP(C117,#REF!,6,FALSE),\"\")","v":""},null,{"$f":"IFERROR(VLOOKUP(C117,#REF!,6,FALSE),\"\")","v":""}]
[null,"025G204677","SC000416116",74,"Laminato a freddo","DC01",{"v":1,"d":"1.00"},{"v":81,"d":"81.00"},{"v":2890,"d":"2,890"},{"v":8.919753086419753,"d":"8.92"},4,null,{"$f":"IFERROR(VLOOKUP(C118,#REF!,6,FALSE),\"\")","v":""},{"$f":"IFERROR(VLOOKUP(C118,#REF!,6,FALSE),\"\")","v":""},null,{"$f":"IFERROR(VLOOKUP(C118,#REF!,6,FALSE),\"\")","v":""}]
[null,"025G204692","SC000416117",75,"Laminato a freddo","DC01",{"v":1,"d":"1.00"},{"v":81,"d":"81.00"},{"v":3126,"d":"3,126"},{"v":9.648148148148149,"d":"9.65"},4,null,{"$f":"IFERROR(VLOOKUP(C119,#REF!,6,FALSE),\"\")","v":""},{"$f":"IFERROR(VLOOKUP(C119,#REF!,6,FALSE),\"\")","v":""},null,{"$f":"IFERROR(VLOOKUP(C119,#REF!,6,FALSE),\"\")","v":""}]
[null,"025G203482","SC000416118",76,"Decapato","SAE1006",1.85,{"v":119,"d":"119.00"},{"v":2504,"d":"2,504"},{"v":5.260504201680672,"d":"5.26"},4,"decapato o laf ?",{"$f":"IFERROR(VLOOKUP(C120,#REF!,6,FALSE),\"\")","v":""},{"$f":"IFERROR(VLOOKUP(C120,#REF!,6,FALSE),\"\")","v":""},null,{"$f":"IFERROR(VLOOKUP(C120,#REF!,6,FALSE),\"\")","v":""}]
[null,"025G204633","SC000416119",77,"Laminato a freddo","DC01",{"v":1,"d":"1.00"},{"v":81,"d":"81.00"},{"v":3122,"d":"3,122"},{"v":9.635802469135802,"d":"9.64"},4,null,{"$f":"IFERROR(VLOOKUP(C121,#REF!,6,FALSE),\"\")","v":""},{"$f":"IFERROR(VLOOKUP(C121,#REF!,6,FALSE),\"\")","v":""},null,{"$f":"IFERROR(VLOOKUP(C121,#REF!,6,FALSE),\"\")","v":""}]
[null,"025G201942","SC000416120",78,"Laminato a freddo","DC03",1.21,{"v":101,"d":"101.00"},{"v":1608,"d":"1,608"},{"v":7.96039603960396,"d":"7.96"},2,null,{"$f":"IFERROR(VLOOKUP(C122,#REF!,6,FALSE),\"\")","v":""},{"$f":"IFERROR(VLOOKUP(C122,#REF!,6,FALSE),\"\")","v":""},null,{"$f":"IFERROR(VLOOKUP(C122,#REF!,6,FALSE),\"\")","v":""}]
[null,"25H8008536","SC000416121",79,"Laminato a freddo","P05",{"v":1.2,"d":"1.20"},{"v":120,"d":"120.00"},987,{"v":8.225,"d":"8.23"},1,null,{"$f":"IFERROR(VLOOKUP(C123,#REF!,6,FALSE),\"\")","v":""},{"$f":"IFERROR(VLOOKUP(C123,#REF!,6,FALSE),\"\")","v":""},null,{"$f":"IFERROR(VLOOKUP(C123,#REF!,6,FALSE),\"\")","v":""}]
[null,"25H8008535","SC000416122",79,"Laminato a freddo","P05",{"v":1.2,"d":"1.20"},{"v":120,"d":"120.00"},987,{"v":8.225,"d":"8.23"},1,null,{"$f":"IFERROR(VLOOKUP(C124,#REF!,6,FALSE),\"\")","v":""},{"$f":"IFERROR(VLOOKUP(C124,#REF!,6,FALSE),\"\")","v":""},null,{"$f":"IFERROR(VLOOKUP(C124,#REF!,6,FALSE),\"\")","v":""}]
[null,"25H8008521","SC000416123",79,"Laminato a freddo","P05",{"v":1.2,"d":"1.20"},{"v":120,"d":"120.00"},977,{"v":8.141666666666667,"d":"8.14"},1,null,{"$f":"IFERROR(VLOOKUP(C125,#REF!,6,FALSE),\"\")","v":""},{"$f":"IFERROR(VLOOKUP(C125,#REF!,6,FALSE),\"\")","v":""},null,{"$f":"IFERROR(VLOOKUP(C125,#REF!,6,FALSE),\"\")","v":""}]
[null,"25H8008522","SC000416124",79,"Laminato a freddo","P05",{"v":1.2,"d":"1.20"},{"v":120,"d":"120.00"},977,{"v":8.141666666666667,"d":"8.14"},1,null,{"$f":"IFERROR(VLOOKUP(C126,#REF!,6,FALSE),\"\")","v":""},{"$f":"IFERROR(VLOOKUP(C126,#REF!,6,FALSE),\"\")","v":""},null,{"$f":"IFERROR(VLOOKUP(C126,#REF!,6,FALSE),\"\")","v":""}]
[null,"25H8008529","SC000416125",80,"Laminato a freddo","P05",1.18,{"v":91,"d":"91.00"},748,{"v":8.219780219780219,"d":"8.22"},1,null,{"$f":"IFERROR(VLOOKUP(C127,#REF!,6,FALSE),\"\")","v":""},{"$f":"IFERROR(VLOOKUP(C127,#REF!,6,FALSE),\"\")","v":""},null,{"$f":"IFERROR(VLOOKUP(C127,#REF!,6,FALSE),\"\")","v":""}]
[null,"25H8008541","SC000416126",80,"Laminato a freddo","P05",1.18,{"v":91,"d":"91.00"},748,{"v":8.219780219780219,"d":"8.22"},1,null,{"$f":"IFERROR(VLOOKUP(C128,#REF!,6,FALSE),\"\")","v":""},{"$f":"IFERROR(VLOOKUP(C128,#REF!,6,FALSE),\"\")","v":""},null,{"$f":"IFERROR(VLOOKUP(C128,#REF!,6,FALSE),\"\")","v":""}]
[null,"25H8008516","SC000416127",80,"Laminato a freddo","P05",1.18,{"v":91,"d":"91.00"},741,{"v":8.142857142857142,"d":"8.14"},1,null,{"$f":"IFERROR(VLOOKUP(C129,#REF!,6,FALSE),\"\")","v":""},{"$f":"IFERROR(VLOOKUP(C129,#REF!,6,FALSE),\"\")","v":""},null,{"$f":"IFERROR(VLOOKUP(C129,#REF!,6,FALSE),\"\")","v":""}]
[null,"25H80085**","SC000416128",80,"Laminato a freddo","P05",1.18,{"v":91,"d":"91.00"},741,{"v":8.142857142857142,"d":"8.14"},1,null,{"$f":"IFERROR(VLOOKUP(C130,#REF!,6,FALSE),\"\")","v":""},{"$f":"IFERROR(VLOOKUP(C130,#REF!,6,FALSE),\"\")","v":""},null,{"$f":"IFERROR(VLOOKUP(C130,#REF!,6,FALSE),\"\")","v":""}]
[null,"24HL013608","SC000416129",81,"Laminato a freddo","DC01C390",{"v":1.5,"d":"1.50"},{"v":206,"d":"206.00"},618,{"$f":"I131/K131/H131","v":{"v":3,"d":"3.00"}},1,null,{"$f":"IFERROR(VLOOKUP(C131,#REF!,6,FALSE),\"\")","v":""},{"$f":"IFERROR(VLOOKUP(C131,#REF!,6,FALSE),\"\")","v":""},null,{"$f":"IFERROR(VLOOKUP(C131,#REF!,6,FALSE),\"\")","v":""}]
[null,"24HL013607","SC000416130",81,"Laminato a freddo","DC01C390",{"v":1.5,"d":"1.50"},{"v":206,"d":"206.00"},618,{"v":3,"d":"3.00"},1,null,{"$f":"IFERROR(VLOOKUP(C132,#REF!,6,FALSE),\"\")","v":""},{"$f":"IFERROR(VLOOKUP(C132,#REF!,6,FALSE),\"\")","v":""},null,{"$f":"IFERROR(VLOOKUP(C132,#REF!,6,FALSE),\"\")","v":""}]
[null,"24HL013613","SC000416131",81,"Laminato a freddo","DC01C390",{"v":1.5,"d":"1.50"},{"v":206,"d":"206.00"},872,{"v":4.233009708737864,"d":"4.23"},1,null,{"$f":"IFERROR(VLOOKUP(C133,#REF!,6,FALSE),\"\")","v":""},{"$f":"IFERROR(VLOOKUP(C133,#REF!,6,FALSE),\"\")","v":""},null,{"$f":"IFERROR(VLOOKUP(C133,#REF!,6,FALSE),\"\")","v":""}]
[null,"25HB005411","SC000416132",82,"Laminato a freddo","DC01C200",0.91,{"v":81,"d":"81.00"},534,{"v":6.592592592592593,"d":"6.59"},1,null,{"$f":"IFERROR(VLOOKUP(C134,#REF!,6,FALSE),\"\")","v":""},{"$f":"IFERROR(VLOOKUP(C134,#REF!,6,FALSE),\"\")","v":""},null,{"$f":"IFERROR(VLOOKUP(C134,#REF!,6,FALSE),\"\")","v":""}]
[null,"25HB005419","SC000416133",82,"Laminato a freddo","DC01C200",0.91,{"v":81,"d":"81.00"},534,{"v":6.592592592592593,"d":"6.59"},1,null,{"$f":"IFERROR(VLOOKUP(C135,#REF!,6,FALSE),\"\")","v":""},{"$f":"IFERROR(VLOOKUP(C135,#REF!,6,FALSE),\"\")","v":""},null,{"$f":"IFERROR(VLOOKUP(C135,#REF!,6,FALSE),\"\")","v":""}]
[null,"25HB005437","SC000416134",82,"Laminato a freddo","DC01C200",0.91,{"v":81,"d":"81.00"},508,{"v":6.271604938271605,"d":"6.27"},1,null,{"$f":"IFERROR(VLOOKUP(C136,#REF!,6,FALSE),\"\")","v":""},{"$f":"IFERROR(VLOOKUP(C136,#REF!,6,FALSE),\"\")","v":""},null,{"$f":"IFERROR(VLOOKUP(C136,#REF!,6,FALSE),\"\")","v":""}]
[null,"25HB005420","SC000416135",82,"Laminato a freddo","DC01C200",0.91,{"v":81,"d":"81.00"},508,{"v":6.271604938271605,"d":"6.27"},1,null,{"$f":"IFERROR(VLOOKUP(C137,#REF!,6,FALSE),\"\")","v":""},{"$f":"IFERROR(VLOOKUP(C137,#REF!,6,FALSE),\"\")","v":""},null,{"$f":"IFERROR(VLOOKUP(C137,#REF!,6,FALSE),\"\")","v":""}]
[null,"25HB005428","SC000416136",82,"Laminato a freddo","DC01C200",0.91,{"v":81,"d":"81.00"},508,{"v":6.271604938271605,"d":"6.27"},1,null,{"$f":"IFERROR(VLOOKUP(C138,#REF!,6,FALSE),\"\")","v":""},{"$f":"IFERROR(VLOOKUP(C138,#REF!,6,FALSE),\"\")","v":""},null,{"$f":"IFERROR(VLOOKUP(C138,#REF!,6,FALSE),\"\")","v":""}]
[null,"024G216351","SC000416137",83,"Laminato a freddo","H380LA",1.26,{"v":145,"d":"145.00"},{"v":2772,"d":"2,772"},{"v":6.372413793103449,"d":"6.37"},3,null,{"$f":"IFERROR(VLOOKUP(C139,#REF!,6,FALSE),\"\")","v":""},{"$f":"IFERROR(VLOOKUP(C139,#REF!,6,FALSE),\"\")","v":""},null,{"$f":"IFERROR(VLOOKUP(C139,#REF!,6,FALSE),\"\")","v":""}]
[null,"024G216350","SC000416138",84,"Laminato a freddo","H380LA",1.26,{"v":145,"d":"145.00"},{"v":2770,"d":"2,770"},{"v":6.367816091954023,"d":"6.37"},3,null,{"$f":"IFERROR(VLOOKUP(C140,#REF!,6,FALSE),\"\")","v":""},{"$f":"IFERROR(VLOOKUP(C140,#REF!,6,FALSE),\"\")","v":""},null,{"$f":"IFERROR(VLOOKUP(C140,#REF!,6,FALSE),\"\")","v":""}]
[null,"024G216162","SC000416139",85,"Laminato a freddo","DC03C290",0.99,{"v":58,"d":"58.00"},938,{"v":8.086206896551724,"d":"8.09"},2,null,{"$f":"IFERROR(VLOOKUP(C141,#REF!,6,FALSE),\"\")","v":""},{"$f":"IFERROR(VLOOKUP(C141,#REF!,6,FALSE),\"\")","v":""},null,{"$f":"IFERROR(VLOOKUP(C141,#REF!,6,FALSE),\"\")","v":""}]
[null,"024G216914","SC000416140",86,"Laminato a freddo","DC01C690",{"v":1,"d":"1.00"},{"v":65,"d":"65.00"},{"v":1222,"d":"1,222"},{"v":3.1333333333333333,"d":"3.13"},6,null,{"$f":"IFERROR(VLOOKUP(C142,#REF!,6,FALSE),\"\")","v":""},{"$f":"IFERROR(VLOOKUP(C142,#REF!,6,FALSE),\"\")","v":""},null,{"$f":"IFERROR(VLOOKUP(C142,#REF!,6,FALSE),\"\")","v":""}]
[null,"24H8024721","SC000416141",87,"Laminato a freddo","P05",{"v":1.5,"d":"1.50"},{"v":50,"d":"50.00"},186,3.72,1,null,{"$f":"IFERROR(VLOOKUP(C143,#REF!,6,FALSE),\"\")","v":""},{"$f":"IFERROR(VLOOKUP(C143,#REF!,6,FALSE),\"\")","v":""},null,{"$f":"IFERROR(VLOOKUP(C143,#REF!,6,FALSE),\"\")","v":""}]
[null,"24H8024724","SC000416142",87,"Laminato a freddo","P05",{"v":1.5,"d":"1.50"},{"v":50,"d":"50.00"},186,3.72,1,null,{"$f":"IFERROR(VLOOKUP(C144,#REF!,6,FALSE),\"\")","v":""},{"$f":"IFERROR(VLOOKUP(C144,#REF!,6,FALSE),\"\")","v":""},null,{"$f":"IFERROR(VLOOKUP(C144,#REF!,6,FALSE),\"\")","v":""}]
[null,"24H802473*","SC000416143",87,"Laminato a freddo","P05",{"v":1.5,"d":"1.50"},{"v":50,"d":"50.00"},186,3.72,1,null,{"$f":"IFERROR(VLOOKUP(C145,#REF!,6,FALSE),\"\")","v":""},{"$f":"IFERROR(VLOOKUP(C145,#REF!,6,FALSE),\"\")","v":""},null,{"$f":"IFERROR(VLOOKUP(C145,#REF!,6,FALSE),\"\")","v":""}]
[null,"24H802473*","SC000416144",87,"Laminato a freddo","P05",{"v":1.5,"d":"1.50"},{"v":50,"d":"50.00"},186,3.72,1,null,{"$f":"IFERROR(VLOOKUP(C146,#REF!,6,FALSE),\"\")","v":""},{"$f":"IFERROR(VLOOKUP(C146,#REF!,6,FALSE),\"\")","v":""},null,{"$f":"IFERROR(VLOOKUP(C146,#REF!,6,FALSE),\"\")","v":""}]
[null,"024G216914","SC000416145",88,"Laminato a freddo","DC01C690",{"v":1,"d":"1.00"},{"v":65,"d":"65.00"},{"v":1222,"d":"1,222"},{"v":3.1333333333333333,"d":"3.13"},6,null,{"$f":"IFERROR(VLOOKUP(C147,#REF!,6,FALSE),\"\")","v":""},{"$f":"IFERROR(VLOOKUP(C147,#REF!,6,FALSE),\"\")","v":""},null,{"$f":"IFERROR(VLOOKUP(C147,#REF!,6,FALSE),\"\")","v":""}]
[null,"024G214908","SC000416146",89,"Laminato a freddo","DC01C440",0.61,{"v":58,"d":"58.00"},{"v":1774,"d":"1,774"},{"v":6.117241379310345,"d":"6.12"},5,null,{"$f":"IFERROR(VLOOKUP(C148,#REF!,6,FALSE),\"\")","v":""},{"$f":"IFERROR(VLOOKUP(C148,#REF!,6,FALSE),\"\")","v":""},null,{"$f":"IFERROR(VLOOKUP(C148,#REF!,6,FALSE),\"\")","v":""}]
[null,"024G214924","SC000416147",90,"Laminato a freddo","DC01C440",0.61,{"v":58,"d":"58.00"},{"v":1704,"d":"1,704"},{"v":5.875862068965517,"d":"5.88"},5,null,{"$f":"IFERROR(VLOOKUP(C149,#REF!,6,FALSE),\"\")","v":""},{"$f":"IFERROR(VLOOKUP(C149,#REF!,6,FALSE),\"\")","v":""},null,{"$f":"IFERROR(VLOOKUP(C149,#REF!,6,FALSE),\"\")","v":""}]
[null,"025G101**6","SC000416148",91,"Laminato a freddo","DC01C490",{"v":1.1,"d":"1.10"},{"v":91,"d":"91.00"},{"v":2152,"d":"2,152"},{"v":3.9413919413919416,"d":"3.94"},6,null,{"$f":"IFERROR(VLOOKUP(C150,#REF!,6,FALSE),\"\")","v":""},{"$f":"IFERROR(VLOOKUP(C150,#REF!,6,FALSE),\"\")","v":""},null,{"$f":"IFERROR(VLOOKUP(C150,#REF!,6,FALSE),\"\")","v":""}]
[null,"024G217130","SC000416149",92,"Laminato a freddo","P05",1.18,{"v":91,"d":"91.00"},{"v":1718,"d":"1,718"},{"v":9.43956043956044,"d":"9.44"},2,null,{"$f":"IFERROR(VLOOKUP(C151,#REF!,6,FALSE),\"\")","v":""},{"$f":"IFERROR(VLOOKUP(C151,#REF!,6,FALSE),\"\")","v":""},null,{"$f":"IFERROR(VLOOKUP(C151,#REF!,6,FALSE),\"\")","v":""}]
[null,"024G211593","SC000416150",93,"Laminato a freddo","DC03C390",1.19,{"v":180,"d":"180.00"},{"v":2340,"d":"2,340"},{"v":6.5,"d":"6.50"},2,null,{"$f":"IFERROR(VLOOKUP(C152,#REF!,6,FALSE),\"\")","v":""},{"$f":"IFERROR(VLOOKUP(C152,#REF!,6,FALSE),\"\")","v":""},null,{"$f":"IFERROR(VLOOKUP(C152,#REF!,6,FALSE),\"\")","v":""}]
[null,"024B201193","SC000416151",94,"Laminato a freddo","DC03",1.76,{"v":99,"d":"99.00"},{"v":1990,"d":"1,990"},{"v":6.700336700336701,"d":"6.70"},3,null,{"$f":"IFERROR(VLOOKUP(C153,#REF!,6,FALSE),\"\")","v":""},{"$f":"IFERROR(VLOOKUP(C153,#REF!,6,FALSE),\"\")","v":""},null,{"$f":"IFERROR(VLOOKUP(C153,#REF!,6,FALSE),\"\")","v":""}]
[null,8001382788,"SC000416152",95,"Laminato a freddo","HC380LA",{"v":2.4,"d":"2.40"},{"v":254,"d":"254.00"},{"v":2050,"d":"2,050"},{"v":8.070866141732283,"d":"8.07"},1,"spessore errato 2,40 mm",{"$f":"IFERROR(VLOOKUP(C154,#REF!,6,FALSE),\"\")","v":""},{"$f":"IFERROR(VLOOKUP(C154,#REF!,6,FALSE),\"\")","v":""},null,{"$f":"IFERROR(VLOOKUP(C154,#REF!,6,FALSE),\"\")","v":""}]
[null,8001382791,"SC000416153",96,"Laminato a freddo","HC380LA",{"v":2.4,"d":"2.40"},{"v":254,"d":"254.00"},{"v":2050,"d":"2,050"},{"v":8.070866141732283,"d":"8.07"},1,"spessore errato 2,40 mm",{"$f":"IFERROR(VLOOKUP(C155,#REF!,6,FALSE),\"\")","v":""},{"$f":"IFERROR(VLOOKUP(C155,#REF!,6,FALSE),\"\")","v":""},null,{"$f":"IFERROR(VLOOKUP(C155,#REF!,6,FALSE),\"\")","v":""}]
[null,8001382784,"SC000416154",97,"Laminato a freddo","HC380LA",{"v":2.4,"d":"2.40"},{"v":254,"d":"254.00"},{"v":2050,"d":"2,050"},{"v":8.070866141732283,"d":"8.07"},1,"spessore errato 2,40 mm",{"$f":"IFERROR(VLOOKUP(C156,#REF!,6,FALSE),\"\")","v":""},{"$f":"IFERROR(VLOOKUP(C156,#REF!,6,FALSE),\"\")","v":""},null,{"$f":"IFERROR(VLOOKUP(C156,#REF!,6,FALSE),\"\")","v":""}]
[null,8001382789,"SC000416155",98,"Laminato a freddo","HC380LA",{"v":2.4,"d":"2.40"},{"v":254,"d":"254.00"},{"v":2050,"d":"2,050"},{"v":8.070866141732283,"d":"8.07"},1,"spessore errato 2,40 mm",{"$f":"IFERROR(VLOOKUP(C157,#REF!,6,FALSE),\"\")","v":""},{"$f":"IFERROR(VLOOKUP(C157,#REF!,6,FALSE),\"\")","v":""},null,{"$f":"IFERROR(VLOOKUP(C157,#REF!,6,FALSE),\"\")","v":""}]
[null,8001382792,"SC000416156",99,"Laminato a freddo","HC380LA",{"v":2.4,"d":"2.40"},{"v":254,"d":"254.00"},{"v":2050,"d":"2,050"},{"v":8.070866141732283,"d":"8.07"},1,"spessore errato 2,40 mm",{"$f":"IFERROR(VLOOKUP(C158,#REF!,6,FALSE),\"\")","v":""},{"$f":"IFERROR(VLOOKUP(C158,#REF!,6,FALSE),\"\")","v":""},null,{"$f":"IFERROR(VLOOKUP(C158,#REF!,6,FALSE),\"\")","v":""}]
[null,"024G211934","SC000416157",100,"Laminato a freddo","DC01",{"v":1,"d":"1.00"},{"v":59,"d":"59.00"},{"v":2276,"d":"2,276"},{"v":6.429378531073446,"d":"6.43"},6,null,{"$f":"IFERROR(VLOOKUP(C159,#REF!,6,FALSE),\"\")","v":""},{"$f":"IFERROR(VLOOKUP(C159,#REF!,6,FALSE),\"\")","v":""},null,{"$f":"IFERROR(VLOOKUP(C159,#REF!,6,FALSE),\"\")","v":""}]
[null,"025G203214","SC000416158",101,"Laminato a freddo","DC05",0.72,{"v":81,"d":"81.00"},{"v":1396,"d":"1,396"},{"v":4.308641975308642,"d":"4.31"},4,null,{"$f":"IFERROR(VLOOKUP(C160,#REF!,6,FALSE),\"\")","v":""},{"$f":"IFERROR(VLOOKUP(C160,#REF!,6,FALSE),\"\")","v":""},null,{"$f":"IFERROR(VLOOKUP(C160,#REF!,6,FALSE),\"\")","v":""}]
[null,"025B204164","SC000416159",102,"Laminato a freddo","DC04",1.36,{"v":79,"d":"79.00"},{"v":1122,"d":"1,122"},{"v":7.10126582278481,"d":"7.10"},2,null,{"$f":"IFERROR(VLOOKUP(C161,#REF!,6,FALSE),\"\")","v":""},{"$f":"IFERROR(VLOOKUP(C161,#REF!,6,FALSE),\"\")","v":""},null,{"$f":"IFERROR(VLOOKUP(C161,#REF!,6,FALSE),\"\")","v":""}]
[null,"25HC013239","SC000416160",103,"Decapato","S355MC",{"v":1.5,"d":"1.50"},{"v":168,"d":"168.00"},{"v":1500,"d":"1,500"},{"v":8.928571428571429,"d":"8.93"},1,null,{"$f":"IFERROR(VLOOKUP(C162,#REF!,6,FALSE),\"\")","v":""},{"$f":"IFERROR(VLOOKUP(C162,#REF!,6,FALSE),\"\")","v":""},null,{"$f":"IFERROR(VLOOKUP(C162,#REF!,6,FALSE),\"\")","v":""}]
[null,"********","SC000416161",104,"Decapato","S355MC",{"v":1.5,"d":"1.50"},{"v":168,"d":"168.00"},{"v":1500,"d":"1,500"},{"v":8.928571428571429,"d":"8.93"},1,null,{"$f":"IFERROR(VLOOKUP(C163,#REF!,6,FALSE),\"\")","v":""},{"$f":"IFERROR(VLOOKUP(C163,#REF!,6,FALSE),\"\")","v":""},null,{"$f":"IFERROR(VLOOKUP(C163,#REF!,6,FALSE),\"\")","v":""}]
[null,"25HC013286","SC000416162",105,"Decapato","S355MC",{"v":1.5,"d":"1.50"},{"v":248,"d":"248.00"},{"v":2117,"d":"2,117"},{"v":8.536290322580646,"d":"8.54"},1,null,{"$f":"IFERROR(VLOOKUP(C164,#REF!,6,FALSE),\"\")","v":""},{"$f":"IFERROR(VLOOKUP(C164,#REF!,6,FALSE),\"\")","v":""},null,{"$f":"IFERROR(VLOOKUP(C164,#REF!,6,FALSE),\"\")","v":""}]
[null,"********","SC000416163",106,"Decapato","S355MC",{"v":1.5,"d":"1.50"},{"v":248,"d":"248.00"},{"v":2117,"d":"2,117"},{"v":8.536290322580646,"d":"8.54"},1,null,{"$f":"IFERROR(VLOOKUP(C165,#REF!,6,FALSE),\"\")","v":""},{"$f":"IFERROR(VLOOKUP(C165,#REF!,6,FALSE),\"\")","v":""},null,{"$f":"IFERROR(VLOOKUP(C165,#REF!,6,FALSE),\"\")","v":""}]
[null,"024G211934","SC000416164",107,"Laminato a freddo","DC01",{"v":1,"d":"1.00"},{"v":59,"d":"59.00"},{"v":2276,"d":"2,276"},{"v":6.429378531073446,"d":"6.43"},6,null,{"$f":"IFERROR(VLOOKUP(C166,#REF!,6,FALSE),\"\")","v":""},{"$f":"IFERROR(VLOOKUP(C166,#REF!,6,FALSE),\"\")","v":""},null,{"$f":"IFERROR(VLOOKUP(C166,#REF!,6,FALSE),\"\")","v":""}]
[null,"025G202044","SC000416165",108,"Laminato a freddo","DC05",0.71,{"v":128,"d":"128.00"},{"v":1928,"d":"1,928"},{"v":3.765625,"d":"3.77"},4,null,{"$f":"IFERROR(VLOOKUP(C167,#REF!,6,FALSE),\"\")","v":""},{"$f":"IFERROR(VLOOKUP(C167,#REF!,6,FALSE),\"\")","v":""},null,{"$f":"IFERROR(VLOOKUP(C167,#REF!,6,FALSE),\"\")","v":""}]
[null,"025G202043","SC000416166",109,"Laminato a freddo","DC05",0.71,{"v":128,"d":"128.00"},{"v":1878,"d":"1,878"},{"v":3.66796875,"d":"3.67"},4,null,{"$f":"IFERROR(VLOOKUP(C168,#REF!,6,FALSE),\"\")","v":""},{"$f":"IFERROR(VLOOKUP(C168,#REF!,6,FALSE),\"\")","v":""},null,{"$f":"IFERROR(VLOOKUP(C168,#REF!,6,FALSE),\"\")","v":""}]
[null,"024G215640","SC000416167",110,"Laminato a freddo","DC04",1.36,{"v":56,"d":"56.00"},{"v":4374,"d":"4,374"},{"v":9.763392857142858,"d":"9.76"},8,null,{"$f":"IFERROR(VLOOKUP(C169,#REF!,6,FALSE),\"\")","v":""},{"$f":"IFERROR(VLOOKUP(C169,#REF!,6,FALSE),\"\")","v":""},null,{"$f":"IFERROR(VLOOKUP(C169,#REF!,6,FALSE),\"\")","v":""}]
[null,"024B105422","SC000416168",111,"Laminato a freddo","DC04",{"v":1,"d":"1.00"},{"v":81,"d":"81.00"},{"v":1188,"d":"1,188"},{"v":3.6666666666666665,"d":"3.67"},4,null,{"$f":"IFERROR(VLOOKUP(C170,#REF!,6,FALSE),\"\")","v":""},{"$f":"IFERROR(VLOOKUP(C170,#REF!,6,FALSE),\"\")","v":""},null,{"$f":"IFERROR(VLOOKUP(C170,#REF!,6,FALSE),\"\")","v":""}]
[null,"024G215617","SC000416169",112,"Laminato a freddo","DC01C440",0.61,{"v":58,"d":"58.00"},{"v":2892,"d":"2,892"},{"v":6.232758620689655,"d":"6.23"},8,null,{"$f":"IFERROR(VLOOKUP(C171,#REF!,6,FALSE),\"\")","v":""},{"$f":"IFERROR(VLOOKUP(C171,#REF!,6,FALSE),\"\")","v":""},null,{"$f":"IFERROR(VLOOKUP(C171,#REF!,6,FALSE),\"\")","v":""}]
[null,"024G215832","SC000416170",113,"Laminato a freddo","DC03",{"v":0.9,"d":"0.90"},{"v":58,"d":"58.00"},{"v":1506,"d":"1,506"},{"v":8.655172413793103,"d":"8.66"},3,null,{"$f":"IFERROR(VLOOKUP(C172,#REF!,6,FALSE),\"\")","v":""},{"$f":"IFERROR(VLOOKUP(C172,#REF!,6,FALSE),\"\")","v":""},null,{"$f":"IFERROR(VLOOKUP(C172,#REF!,6,FALSE),\"\")","v":""}]
[null,"024G201672","SC000416171",114,"Laminato a freddo","DC04",1.36,{"v":44,"d":"44.00"},{"v":1948,"d":"1,948"},{"v":7.378787878787879,"d":"7.38"},6,null,{"$f":"IFERROR(VLOOKUP(C173,#REF!,6,FALSE),\"\")","v":""},{"$f":"IFERROR(VLOOKUP(C173,#REF!,6,FALSE),\"\")","v":""},null,{"$f":"IFERROR(VLOOKUP(C173,#REF!,6,FALSE),\"\")","v":""}]
[null,"024B201693","SC000416172",115,"Laminato a freddo","DC04",1.36,{"v":44,"d":"44.00"},{"v":2132,"d":"2,132"},{"v":8.075757575757576,"d":"8.08"},6,null,{"$f":"IFERROR(VLOOKUP(C174,#REF!,6,FALSE),\"\")","v":""},{"$f":"IFERROR(VLOOKUP(C174,#REF!,6,FALSE),\"\")","v":""},null,{"$f":"IFERROR(VLOOKUP(C174,#REF!,6,FALSE),\"\")","v":""}]
[null,"024B201820","SC000416173",116,"Laminato a freddo","DC01",{"v":1,"d":"1.00"},{"v":51.5,"d":"51.50"},{"v":1790,"d":"1,790"},{"v":5.792880258899676,"d":"5.79"},6,null,{"$f":"IFERROR(VLOOKUP(C175,#REF!,6,FALSE),\"\")","v":""},{"$f":"IFERROR(VLOOKUP(C175,#REF!,6,FALSE),\"\")","v":""},null,{"$f":"IFERROR(VLOOKUP(C175,#REF!,6,FALSE),\"\")","v":""}]
[null,"024B201845","SC000416174",117,"Laminato a freddo","DC01",{"v":1,"d":"1.00"},{"v":51.5,"d":"51.50"},{"v":1806,"d":"1,806"},{"v":7.0135922330097085,"d":"7.01"},5,null,{"$f":"IFERROR(VLOOKUP(C176,#REF!,6,FALSE),\"\")","v":""},{"$f":"IFERROR(VLOOKUP(C176,#REF!,6,FALSE),\"\")","v":""},null,{"$f":"IFERROR(VLOOKUP(C176,#REF!,6,FALSE),\"\")","v":""}]
[null,"024G215392","SC000416175",118,"Laminato a freddo","DC01390",0.92,{"v":51.5,"d":"51.50"},882,{"v":5.70873786407767,"d":"5.71"},3,null,{"$f":"IFERROR(VLOOKUP(C177,#REF!,6,FALSE),\"\")","v":""},{"$f":"IFERROR(VLOOKUP(C177,#REF!,6,FALSE),\"\")","v":""},null,{"$f":"IFERROR(VLOOKUP(C177,#REF!,6,FALSE),\"\")","v":""}]
[null,"024B202083","SC000416176",119,"Laminato a freddo","DC05",1.35,{"v":79,"d":"79.00"},{"v":2088,"d":"2,088"},{"v":6.6075949367088604,"d":"6.61"},4,null,{"$f":"IFERROR(VLOOKUP(C178,#REF!,6,FALSE),\"\")","v":""},{"$f":"IFERROR(VLOOKUP(C178,#REF!,6,FALSE),\"\")","v":""},null,{"$f":"IFERROR(VLOOKUP(C178,#REF!,6,FALSE),\"\")","v":""}]
[null,"024B202095","SC000416177",120,"Laminato a freddo","DC05",1.35,{"v":79,"d":"79.00"},{"v":2178,"d":"2,178"},{"v":6.8924050632911396,"d":"6.89"},4,null,{"$f":"IFERROR(VLOOKUP(C179,#REF!,6,FALSE),\"\")","v":""},{"$f":"IFERROR(VLOOKUP(C179,#REF!,6,FALSE),\"\")","v":""},null,{"$f":"IFERROR(VLOOKUP(C179,#REF!,6,FALSE),\"\")","v":""}]
[null,"024B201693","SC000416178",121,"Laminato a freddo","DC04",1.36,{"v":44,"d":"44.00"},{"v":2132,"d":"2,132"},{"v":8.075757575757576,"d":"8.08"},6,null,{"$f":"IFERROR(VLOOKUP(C180,#REF!,6,FALSE),\"\")","v":""},{"$f":"IFERROR(VLOOKUP(C180,#REF!,6,FALSE),\"\")","v":""},null,{"$f":"IFERROR(VLOOKUP(C180,#REF!,6,FALSE),\"\")","v":""}]
[null,"024B201672","SC000416179",122,"Laminato a freddo","DC04",1.36,{"v":44,"d":"44.00"},{"v":1948,"d":"1,948"},{"v":7.378787878787879,"d":"7.38"},6,null,{"$f":"IFERROR(VLOOKUP(C181,#REF!,6,FALSE),\"\")","v":""},{"$f":"IFERROR(VLOOKUP(C181,#REF!,6,FALSE),\"\")","v":""},null,{"$f":"IFERROR(VLOOKUP(C181,#REF!,6,FALSE),\"\")","v":""}]
[null,"024G213303","SC000416180",123,"Laminato a freddo","DC01",0.51,{"v":58,"d":"58.00"},{"v":2748,"d":"2,748"},{"v":7.896551724137931,"d":"7.90"},6,null,{"$f":"IFERROR(VLOOKUP(C182,#REF!,6,FALSE),\"\")","v":""},{"$f":"IFERROR(VLOOKUP(C182,#REF!,6,FALSE),\"\")","v":""},null,{"$f":"IFERROR(VLOOKUP(C182,#REF!,6,FALSE),\"\")","v":""}]
[null,"025B300601","SC000416181",124,"Laminato a freddo","DC01",1.01,{"v":45,"d":"45.00"},{"v":2034,"d":"2,034"},{"v":4.5200000000000005,"d":"4.52"},10,null,{"$f":"IFERROR(VLOOKUP(C183,#REF!,6,FALSE),\"\")","v":""},{"$f":"IFERROR(VLOOKUP(C183,#REF!,6,FALSE),\"\")","v":""},null,{"$f":"IFERROR(VLOOKUP(C183,#REF!,6,FALSE),\"\")","v":""}]
[null,"025B300621","SC000416182",125,"Laminato a freddo","DC01",1.01,{"v":45,"d":"45.00"},{"v":1446,"d":"1,446"},{"v":4.590476190476191,"d":"4.59"},7,null,{"$f":"IFERROR(VLOOKUP(C184,#REF!,6,FALSE),\"\")","v":""},{"$f":"IFERROR(VLOOKUP(C184,#REF!,6,FALSE),\"\")","v":""},null,{"$f":"IFERROR(VLOOKUP(C184,#REF!,6,FALSE),\"\")","v":""}]
[null,"025B300620","SC000416183",126,"Laminato a freddo","DC01",1.01,{"v":45,"d":"45.00"},{"v":1458,"d":"1,458"},{"v":4.628571428571428,"d":"4.63"},7,null,{"$f":"IFERROR(VLOOKUP(C185,#REF!,6,FALSE),\"\")","v":""},{"$f":"IFERROR(VLOOKUP(C185,#REF!,6,FALSE),\"\")","v":""},null,{"$f":"IFERROR(VLOOKUP(C185,#REF!,6,FALSE),\"\")","v":""}]
[null,"025G203444","SC000416184",127,"Laminato a freddo","RAD1",{"v":1.5,"d":"1.50"},{"v":56,"d":"56.00"},498,{"v":8.892857142857142,"d":"8.89"},1,null,{"$f":"IFERROR(VLOOKUP(C186,#REF!,6,FALSE),\"\")","v":""},{"$f":"IFERROR(VLOOKUP(C186,#REF!,6,FALSE),\"\")","v":""},null,{"$f":"IFERROR(VLOOKUP(C186,#REF!,6,FALSE),\"\")","v":""}]
[null,"025G200354","SC000416185",128,"Laminato a freddo","DC01",{"v":1,"d":"1.00"},{"v":91,"d":"91.00"},{"v":3572,"d":"3,572"},{"v":9.813186813186814,"d":"9.81"},4,null,{"$f":"IFERROR(VLOOKUP(C187,#REF!,6,FALSE),\"\")","v":""},{"$f":"IFERROR(VLOOKUP(C187,#REF!,6,FALSE),\"\")","v":""},null,{"$f":"IFERROR(VLOOKUP(C187,#REF!,6,FALSE),\"\")","v":""}]
[null,"025G200395","SC000416186",129,"Laminato a freddo","DC01",{"v":1,"d":"1.00"},{"v":121,"d":"121.00"},{"v":1982,"d":"1,982"},{"v":8.190082644628099,"d":"8.19"},2,null,{"$f":"IFERROR(VLOOKUP(C188,#REF!,6,FALSE),\"\")","v":""},{"$f":"IFERROR(VLOOKUP(C188,#REF!,6,FALSE),\"\")","v":""},null,{"$f":"IFERROR(VLOOKUP(C188,#REF!,6,FALSE),\"\")","v":""}]
[null,"024G122408","SC000416187",130,"Laminato a freddo","DC01",{"v":1.3,"d":"1.30"},{"v":110,"d":"110.00"},{"v":1447,"d":"1,447"},{"v":6.577272727272727,"d":"6.58"},2,null,{"$f":"IFERROR(VLOOKUP(C189,#REF!,6,FALSE),\"\")","v":""},{"$f":"IFERROR(VLOOKUP(C189,#REF!,6,FALSE),\"\")","v":""},null,{"$f":"IFERROR(VLOOKUP(C189,#REF!,6,FALSE),\"\")","v":""}]
[null,"024G122407","SC000416188",131,"Laminato a freddo","DC01",{"v":1.3,"d":"1.30"},{"v":110,"d":"110.00"},{"v":1445,"d":"1,445"},{"v":6.568181818181818,"d":"6.57"},2,null,{"$f":"IFERROR(VLOOKUP(C190,#REF!,6,FALSE),\"\")","v":""},{"$f":"IFERROR(VLOOKUP(C190,#REF!,6,FALSE),\"\")","v":""},null,{"$f":"IFERROR(VLOOKUP(C190,#REF!,6,FALSE),\"\")","v":""}]
[null,"024G122412","SC000416189",132,"Laminato a freddo","DC01",{"v":1.3,"d":"1.30"},{"v":110,"d":"110.00"},{"v":1559,"d":"1,559"},{"v":7.086363636363636,"d":"7.09"},2,null,{"$f":"IFERROR(VLOOKUP(C191,#REF!,6,FALSE),\"\")","v":""},{"$f":"IFERROR(VLOOKUP(C191,#REF!,6,FALSE),\"\")","v":""},null,{"$f":"IFERROR(VLOOKUP(C191,#REF!,6,FALSE),\"\")","v":""}]
[null,"24H6005164","SC000416190",133,"Decapato","DD13",{"v":3.5,"d":"3.50"},{"v":250,"d":"250.00"},{"v":1458,"d":"1,458"},{"v":5.832,"d":"5.83"},1,null,{"$f":"IFERROR(VLOOKUP(C192,#REF!,6,FALSE),\"\")","v":""},{"$f":"IFERROR(VLOOKUP(C192,#REF!,6,FALSE),\"\")","v":""},null,{"$f":"IFERROR(VLOOKUP(C192,#REF!,6,FALSE),\"\")","v":""}]
[null,"24H8019018","SC000416191",134,"Decapato","DD13",{"v":2.2,"d":"2.20"},{"v":147,"d":"147.00"},{"v":1243,"d":"1,243"},{"v":8.45578231292517,"d":"8.46"},1,null,{"$f":"IFERROR(VLOOKUP(C193,#REF!,6,FALSE),\"\")","v":""},{"$f":"IFERROR(VLOOKUP(C193,#REF!,6,FALSE),\"\")","v":""},null,{"$f":"IFERROR(VLOOKUP(C193,#REF!,6,FALSE),\"\")","v":""}]
[null,"24H8019011","SC000416192",135,"Decapato","DD13",{"v":2.2,"d":"2.20"},{"v":190,"d":"190.00"},{"v":1607,"d":"1,607"},{"v":8.457894736842105,"d":"8.46"},1,null,{"$f":"IFERROR(VLOOKUP(C194,#REF!,6,FALSE),\"\")","v":""},{"$f":"IFERROR(VLOOKUP(C194,#REF!,6,FALSE),\"\")","v":""},null,{"$f":"IFERROR(VLOOKUP(C194,#REF!,6,FALSE),\"\")","v":""}]
[null,"024G129362","SC000416193",136,"Laminato a freddo","DC01",{"v":1.3,"d":"1.30"},{"v":110,"d":"110.00"},{"v":1863,"d":"1,863"},{"$f":"I195/K195/H195","v":{"v":8.468181818181819,"d":"8.47"}},2,null,{"$f":"IFERROR(VLOOKUP(C195,#REF!,6,FALSE),\"\")","v":""},{"$f":"IFERROR(VLOOKUP(C195,#REF!,6,FALSE),\"\")","v":""},null,{"$f":"IFERROR(VLOOKUP(C195,#REF!,6,FALSE),\"\")","v":""}]
[null,"024G129361","SC000416194",137,"Laminato a freddo","DC01",{"v":1.3,"d":"1.30"},{"v":110,"d":"110.00"},{"v":1877,"d":"1,877"},{"v":8.531818181818181,"d":"8.53"},2,null,{"$f":"IFERROR(VLOOKUP(C196,#REF!,6,FALSE),\"\")","v":""},{"$f":"IFERROR(VLOOKUP(C196,#REF!,6,FALSE),\"\")","v":""},null,{"$f":"IFERROR(VLOOKUP(C196,#REF!,6,FALSE),\"\")","v":""}]
[null,"024G129368","SC000416195",138,"Laminato a freddo","DC01",{"v":1.3,"d":"1.30"},{"v":110,"d":"110.00"},{"v":1943,"d":"1,943"},{"v":8.831818181818182,"d":"8.83"},2,null,{"$f":"IFERROR(VLOOKUP(C197,#REF!,6,FALSE),\"\")","v":""},{"$f":"IFERROR(VLOOKUP(C197,#REF!,6,FALSE),\"\")","v":""},null,{"$f":"IFERROR(VLOOKUP(C197,#REF!,6,FALSE),\"\")","v":""}]
[null,"025AH00120","SC000416196",139,"Zincato","DX51D+Z100 MAC",{"v":0.9,"d":"0.90"},{"v":71,"d":"71.00"},{"v":2812,"d":"2,812"},{"v":9.901408450704226,"d":"9.90"},4,null,{"$f":"IFERROR(VLOOKUP(C198,#REF!,6,FALSE),\"\")","v":""},{"$f":"IFERROR(VLOOKUP(C198,#REF!,6,FALSE),\"\")","v":""},null,{"$f":"IFERROR(VLOOKUP(C198,#REF!,6,FALSE),\"\")","v":""}]
[null,"025AH00112","SC000416197",140,"Zincato","DX51D+Z100 MAC",{"v":0.9,"d":"0.90"},{"v":71,"d":"71.00"},{"v":2250,"d":"2,250"},{"v":10.56338028169014,"d":"10.56"},3,null,{"$f":"IFERROR(VLOOKUP(C199,#REF!,6,FALSE),\"\")","v":""},{"$f":"IFERROR(VLOOKUP(C199,#REF!,6,FALSE),\"\")","v":""},null,{"$f":"IFERROR(VLOOKUP(C199,#REF!,6,FALSE),\"\")","v":""}]
[null,"025AH00113","SC000416198",141,"Zincato","DX51D+Z100 MAC",{"v":0.9,"d":"0.90"},{"v":71,"d":"71.00"},{"v":2244,"d":"2,244"},{"v":10.535211267605634,"d":"10.54"},3,null,{"$f":"IFERROR(VLOOKUP(C200,#REF!,6,FALSE),\"\")","v":""},{"$f":"IFERROR(VLOOKUP(C200,#REF!,6,FALSE),\"\")","v":""},null,{"$f":"IFERROR(VLOOKUP(C200,#REF!,6,FALSE),\"\")","v":""}]
[null,"025AH00110","SC000416199",142,"Zincato","DX51D+Z100 MAC",{"v":0.9,"d":"0.90"},{"v":71,"d":"71.00"},{"v":2242,"d":"2,242"},{"v":10.525821596244132,"d":"10.53"},3,null,{"$f":"IFERROR(VLOOKUP(C201,#REF!,6,FALSE),\"\")","v":""},{"$f":"IFERROR(VLOOKUP(C201,#REF!,6,FALSE),\"\")","v":""},null,{"$f":"IFERROR(VLOOKUP(C201,#REF!,6,FALSE),\"\")","v":""}]
[null,"******","SC000416200",143,"Zincato","DX51D+Z100 MAC",{"v":0.9,"d":"0.90"},{"v":71,"d":"71.00"},{"v":2248,"d":"2,248"},{"v":10.55399061032864,"d":"10.55"},3,null,{"$f":"IFERROR(VLOOKUP(C202,#REF!,6,FALSE),\"\")","v":""},{"$f":"IFERROR(VLOOKUP(C202,#REF!,6,FALSE),\"\")","v":""},null,{"$f":"IFERROR(VLOOKUP(C202,#REF!,6,FALSE),\"\")","v":""}]
[null,"025AH00129","SC000416201",144,"Zincato","DX51D+Z100 MAC",{"v":0.9,"d":"0.90"},{"v":71,"d":"71.00"},{"v":1910,"d":"1,910"},{"v":6.725352112676056,"d":"6.73"},4,null,{"$f":"IFERROR(VLOOKUP(C203,#REF!,6,FALSE),\"\")","v":""},{"$f":"IFERROR(VLOOKUP(C203,#REF!,6,FALSE),\"\")","v":""},null,{"$f":"IFERROR(VLOOKUP(C203,#REF!,6,FALSE),\"\")","v":""}]
[null,"25HB006831","SC000416202",145,"Laminato a freddo","DC04",1.37,{"v":195,"d":"195.00"},996,{"v":5.107692307692307,"d":"5.11"},1,null,{"$f":"IFERROR(VLOOKUP(C204,#REF!,6,FALSE),\"\")","v":""},{"$f":"IFERROR(VLOOKUP(C204,#REF!,6,FALSE),\"\")","v":""},null,{"$f":"IFERROR(VLOOKUP(C204,#REF!,6,FALSE),\"\")","v":""}]
[null,"25HB006829","SC000416203",146,"Laminato a freddo","DC04",1.37,{"v":195,"d":"195.00"},996,{"v":5.107692307692307,"d":"5.11"},1,null,{"$f":"IFERROR(VLOOKUP(C205,#REF!,6,FALSE),\"\")","v":""},{"$f":"IFERROR(VLOOKUP(C205,#REF!,6,FALSE),\"\")","v":""},null,{"$f":"IFERROR(VLOOKUP(C205,#REF!,6,FALSE),\"\")","v":""}]
[null,"25HB006830","SC000416204",147,"Laminato a freddo","DC04",1.37,{"v":195,"d":"195.00"},996,{"v":5.107692307692307,"d":"5.11"},1,null,{"$f":"IFERROR(VLOOKUP(C206,#REF!,6,FALSE),\"\")","v":""},{"$f":"IFERROR(VLOOKUP(C206,#REF!,6,FALSE),\"\")","v":""},null,{"$f":"IFERROR(VLOOKUP(C206,#REF!,6,FALSE),\"\")","v":""}]
[null,"25HB006815","SC000416205",148,"Laminato a freddo","DC04",1.37,{"v":195,"d":"195.00"},{"v":1009,"d":"1,009"},{"v":5.174358974358975,"d":"5.17"},1,null,{"$f":"IFERROR(VLOOKUP(C207,#REF!,6,FALSE),\"\")","v":""},{"$f":"IFERROR(VLOOKUP(C207,#REF!,6,FALSE),\"\")","v":""},null,{"$f":"IFERROR(VLOOKUP(C207,#REF!,6,FALSE),\"\")","v":""}]
[null,"25HB006817","SC000416206",149,"Laminato a freddo","DC04",1.37,{"v":195,"d":"195.00"},{"v":1009,"d":"1,009"},{"v":5.174358974358975,"d":"5.17"},1,null,{"$f":"IFERROR(VLOOKUP(C208,#REF!,6,FALSE),\"\")","v":""},{"$f":"IFERROR(VLOOKUP(C208,#REF!,6,FALSE),\"\")","v":""},null,{"$f":"IFERROR(VLOOKUP(C208,#REF!,6,FALSE),\"\")","v":""}]
[null,"25HB006816","SC000416207",150,"Laminato a freddo","DC04",1.37,{"v":195,"d":"195.00"},{"v":1009,"d":"1,009"},{"v":5.174358974358975,"d":"5.17"},1,null,{"$f":"IFERROR(VLOOKUP(C209,#REF!,6,FALSE),\"\")","v":""},{"$f":"IFERROR(VLOOKUP(C209,#REF!,6,FALSE),\"\")","v":""},null,{"$f":"IFERROR(VLOOKUP(C209,#REF!,6,FALSE),\"\")","v":""}]
[null,"O25AR1885","SC000416208",151,"Zincato","DX51D+Z200MAC",{"v":1,"d":"1.00"},{"v":128,"d":"128.00"},{"v":2935,"d":"2,935"},{"v":5.732421875,"d":"5.73"},4,null,{"$f":"IFERROR(VLOOKUP(C210,#REF!,6,FALSE),\"\")","v":""},{"$f":"IFERROR(VLOOKUP(C210,#REF!,6,FALSE),\"\")","v":""},null,{"$f":"IFERROR(VLOOKUP(C210,#REF!,6,FALSE),\"\")","v":""}]
[null,"O25AR1882","SC000416209",152,"Zincato","DX51D+Z200MAC",{"v":1,"d":"1.00"},{"v":128,"d":"128.00"},{"v":3069,"d":"3,069"},{"v":5.994140625,"d":"5.99"},4,null,{"$f":"IFERROR(VLOOKUP(C211,#REF!,6,FALSE),\"\")","v":""},{"$f":"IFERROR(VLOOKUP(C211,#REF!,6,FALSE),\"\")","v":""},null,{"$f":"IFERROR(VLOOKUP(C211,#REF!,6,FALSE),\"\")","v":""}]
[null,"O25AR1889","SC000416210",153,"Zincato","DX51D+Z200MAC",{"v":1,"d":"1.00"},{"v":128,"d":"128.00"},{"v":2346,"d":"2,346"},{"v":6.109375,"d":"6.11"},3,null,{"$f":"IFERROR(VLOOKUP(C212,#REF!,6,FALSE),\"\")","v":""},{"$f":"IFERROR(VLOOKUP(C212,#REF!,6,FALSE),\"\")","v":""},null,{"$f":"IFERROR(VLOOKUP(C212,#REF!,6,FALSE),\"\")","v":""}]
[null,"O25AR1894","SC000416211",154,"Zincato","DX51D+Z200MAC",{"v":1,"d":"1.00"},{"v":128,"d":"128.00"},{"v":1502,"d":"1,502"},{"v":5.8671875,"d":"5.87"},2,null,{"$f":"IFERROR(VLOOKUP(C213,#REF!,6,FALSE),\"\")","v":""},{"$f":"IFERROR(VLOOKUP(C213,#REF!,6,FALSE),\"\")","v":""},null,{"$f":"IFERROR(VLOOKUP(C213,#REF!,6,FALSE),\"\")","v":""}]
[null,"O25AR1896","SC000416212",155,"Zincato","DX51D+Z200MAC",{"v":1,"d":"1.00"},{"v":128,"d":"128.00"},{"v":2368,"d":"2,368"},{"v":6.166666666666667,"d":"6.17"},3,null,{"$f":"IFERROR(VLOOKUP(C214,#REF!,6,FALSE),\"\")","v":""},{"$f":"IFERROR(VLOOKUP(C214,#REF!,6,FALSE),\"\")","v":""},null,{"$f":"IFERROR(VLOOKUP(C214,#REF!,6,FALSE),\"\")","v":""}]
[null,"O25AR1886","SC000416213",156,"Zincato","DX51D+Z200MAC",{"v":1,"d":"1.00"},{"v":128,"d":"128.00"},{"v":2995,"d":"2,995"},{"v":5.849609375,"d":"5.85"},4,null,{"$f":"IFERROR(VLOOKUP(C215,#REF!,6,FALSE),\"\")","v":""},{"$f":"IFERROR(VLOOKUP(C215,#REF!,6,FALSE),\"\")","v":""},null,{"$f":"IFERROR(VLOOKUP(C215,#REF!,6,FALSE),\"\")","v":""}]
[null,"025G202940","SC000416214",157,"Laminato a freddo","P05",1.18,{"v":91,"d":"91.00"},{"v":3138,"d":"3,138"},{"v":8.62087912087912,"d":"8.62"},4,null,{"$f":"IFERROR(VLOOKUP(C216,#REF!,6,FALSE),\"\")","v":""},{"$f":"IFERROR(VLOOKUP(C216,#REF!,6,FALSE),\"\")","v":""},null,{"$f":"IFERROR(VLOOKUP(C216,#REF!,6,FALSE),\"\")","v":""}]
[null,"025G202924","SC000416215",158,"Laminato a freddo","P05",1.19,{"v":91,"d":"91.00"},{"v":3092,"d":"3,092"},{"v":8.494505494505495,"d":"8.49"},4,null,{"$f":"IFERROR(VLOOKUP(C217,#REF!,6,FALSE),\"\")","v":""},{"$f":"IFERROR(VLOOKUP(C217,#REF!,6,FALSE),\"\")","v":""},null,{"$f":"IFERROR(VLOOKUP(C217,#REF!,6,FALSE),\"\")","v":""}]
[null,"025G202932","SC000416216",159,"Laminato a freddo","P05",1.18,{"v":91,"d":"91.00"},{"v":3446,"d":"3,446"},{"v":9.467032967032967,"d":"9.47"},4,null,{"$f":"IFERROR(VLOOKUP(C218,#REF!,6,FALSE),\"\")","v":""},{"$f":"IFERROR(VLOOKUP(C218,#REF!,6,FALSE),\"\")","v":""},null,{"$f":"IFERROR(VLOOKUP(C218,#REF!,6,FALSE),\"\")","v":""}]
[null,"25HC010325","SC000416217",160,"Laminato a freddo","HC220LC",{"v":0.8,"d":"0.80"},{"v":196.6,"d":"196.60"},{"v":1836,"d":"1,836"},{"v":9.338758901322482,"d":"9.34"},1,null,{"$f":"IFERROR(VLOOKUP(C219,#REF!,6,FALSE),\"\")","v":""},{"$f":"IFERROR(VLOOKUP(C219,#REF!,6,FALSE),\"\")","v":""},null,{"$f":"IFERROR(VLOOKUP(C219,#REF!,6,FALSE),\"\")","v":""}]
[null,"022B308202","SC000416218",161,"Decapato","DD11",{"v":3.5,"d":"3.50"},{"v":105,"d":"105.00"},{"v":1746,"d":"1,746"},{"v":8.314285714285715,"d":"8.31"},2,null,{"$f":"IFERROR(VLOOKUP(C220,#REF!,6,FALSE),\"\")","v":""},{"$f":"IFERROR(VLOOKUP(C220,#REF!,6,FALSE),\"\")","v":""},null,{"$f":"IFERROR(VLOOKUP(C220,#REF!,6,FALSE),\"\")","v":""}]
[null,"024B202383","SC000416219",162,"Laminato a freddo","DC01",2.91,{"v":75,"d":"75.00"},{"v":3384,"d":"3,384"},7.52,6,null,{"$f":"IFERROR(VLOOKUP(C221,#REF!,6,FALSE),\"\")","v":""},{"$f":"IFERROR(VLOOKUP(C221,#REF!,6,FALSE),\"\")","v":""},null,{"$f":"IFERROR(VLOOKUP(C221,#REF!,6,FALSE),\"\")","v":""}]
[null,"025G202956","SC000416220",163,"Laminato a freddo","P05",1.18,{"v":91,"d":"91.00"},{"v":2770,"d":"2,770"},{"v":7.6098901098901095,"d":"7.61"},4,null,{"$f":"IFERROR(VLOOKUP(C222,#REF!,6,FALSE),\"\")","v":""},{"$f":"IFERROR(VLOOKUP(C222,#REF!,6,FALSE),\"\")","v":""},null,{"$f":"IFERROR(VLOOKUP(C222,#REF!,6,FALSE),\"\")","v":""}]
[null,"025G10***","SC000416221",164,"Laminato a freddo","DC01",{"v":1,"d":"1.00"},{"v":59,"d":"59.00"},{"v":1709,"d":"1,709"},{"v":5.793220338983051,"d":"5.79"},5,null,{"$f":"IFERROR(VLOOKUP(C223,#REF!,6,FALSE),\"\")","v":""},{"$f":"IFERROR(VLOOKUP(C223,#REF!,6,FALSE),\"\")","v":""},null,{"$f":"IFERROR(VLOOKUP(C223,#REF!,6,FALSE),\"\")","v":""}]
[null,"025G104221","SC000416222",165,"Laminato a freddo","DC01",{"v":1,"d":"1.00"},{"v":59,"d":"59.00"},{"v":1632,"d":"1,632"},{"v":6.915254237288136,"d":"6.92"},4,null,{"$f":"IFERROR(VLOOKUP(C224,#REF!,6,FALSE),\"\")","v":""},{"$f":"IFERROR(VLOOKUP(C224,#REF!,6,FALSE),\"\")","v":""},null,{"$f":"IFERROR(VLOOKUP(C224,#REF!,6,FALSE),\"\")","v":""}]
[null,"025G104193","SC000416223",166,"Laminato a freddo","DC01",{"v":1,"d":"1.00"},{"v":59,"d":"59.00"},{"v":1504,"d":"1,504"},{"v":6.372881355932203,"d":"6.37"},4,null,{"$f":"IFERROR(VLOOKUP(C225,#REF!,6,FALSE),\"\")","v":""},{"$f":"IFERROR(VLOOKUP(C225,#REF!,6,FALSE),\"\")","v":""},null,{"$f":"IFERROR(VLOOKUP(C225,#REF!,6,FALSE),\"\")","v":""}]
[null,"025G102393","SC000416224",167,"Laminato a freddo","DC01",{"v":1,"d":"1.00"},{"v":59,"d":"59.00"},{"v":1535,"d":"1,535"},{"v":6.504237288135593,"d":"6.50"},4,null,{"$f":"IFERROR(VLOOKUP(C226,#REF!,6,FALSE),\"\")","v":""},{"$f":"IFERROR(VLOOKUP(C226,#REF!,6,FALSE),\"\")","v":""},null,{"$f":"IFERROR(VLOOKUP(C226,#REF!,6,FALSE),\"\")","v":""}]
[null,"025G102367","SC000416225",168,"Laminato a freddo","DC01",{"v":1,"d":"1.00"},{"v":59,"d":"59.00"},{"v":1497,"d":"1,497"},{"v":6.343220338983051,"d":"6.34"},4,null,{"$f":"IFERROR(VLOOKUP(C227,#REF!,6,FALSE),\"\")","v":""},{"$f":"IFERROR(VLOOKUP(C227,#REF!,6,FALSE),\"\")","v":""},null,{"$f":"IFERROR(VLOOKUP(C227,#REF!,6,FALSE),\"\")","v":""}]
[null,"025G102334","SC000416226",169,"Laminato a freddo","DC01",{"v":1,"d":"1.00"},{"v":59,"d":"59.00"},{"v":1711,"d":"1,711"},7.25,4,null,{"$f":"IFERROR(VLOOKUP(C228,#REF!,6,FALSE),\"\")","v":""},{"$f":"IFERROR(VLOOKUP(C228,#REF!,6,FALSE),\"\")","v":""},null,{"$f":"IFERROR(VLOOKUP(C228,#REF!,6,FALSE),\"\")","v":""}]
[null,"025G203415","SC000416227",170,"Zincato","DX51D+Z",{"v":0.8,"d":"0.80"},{"v":180,"d":"180.00"},950,{"v":5.277777777777778,"d":"5.28"},1,null,{"$f":"IFERROR(VLOOKUP(C229,#REF!,6,FALSE),\"\")","v":""},{"$f":"IFERROR(VLOOKUP(C229,#REF!,6,FALSE),\"\")","v":""},null,{"$f":"IFERROR(VLOOKUP(C229,#REF!,6,FALSE),\"\")","v":""}]
[null,"025G203413","SC000416228",171,"Zincato","S250GD+Z",{"v":0.8,"d":"0.80"},{"v":96,"d":"96.00"},{"v":1336,"d":"1,336"},{"v":6.958333333333333,"d":"6.96"},2,null,{"$f":"IFERROR(VLOOKUP(C230,#REF!,6,FALSE),\"\")","v":""},{"$f":"IFERROR(VLOOKUP(C230,#REF!,6,FALSE),\"\")","v":""},null,{"$f":"IFERROR(VLOOKUP(C230,#REF!,6,FALSE),\"\")","v":""}]
[null,"025G203395","SC000416229",172,"Zincato","S250GD+Z",{"v":0.8,"d":"0.80"},{"v":114,"d":"114.00"},{"v":2450,"d":"2,450"},{"v":5.37280701754386,"d":"5.37"},4,null,{"$f":"IFERROR(VLOOKUP(C231,#REF!,6,FALSE),\"\")","v":""},{"$f":"IFERROR(VLOOKUP(C231,#REF!,6,FALSE),\"\")","v":""},null,{"$f":"IFERROR(VLOOKUP(C231,#REF!,6,FALSE),\"\")","v":""}]
[null,"025G203399","SC000416230",173,"Zincato","S250GD+Z",{"v":0.8,"d":"0.80"},{"v":114,"d":"114.00"},{"v":2490,"d":"2,490"},{"v":5.4605263157894735,"d":"5.46"},4,null,{"$f":"IFERROR(VLOOKUP(C232,#REF!,6,FALSE),\"\")","v":""},{"$f":"IFERROR(VLOOKUP(C232,#REF!,6,FALSE),\"\")","v":""},null,{"$f":"IFERROR(VLOOKUP(C232,#REF!,6,FALSE),\"\")","v":""}]
[null,"025G203419","SC000416231",174,"Zincato","S250GD+Z",0.61,{"v":71,"d":"71.00"},620,{"v":4.366197183098592,"d":"4.37"},2,null,{"$f":"IFERROR(VLOOKUP(C233,#REF!,6,FALSE),\"\")","v":""},{"$f":"IFERROR(VLOOKUP(C233,#REF!,6,FALSE),\"\")","v":""},null,{"$f":"IFERROR(VLOOKUP(C233,#REF!,6,FALSE),\"\")","v":""}]
[null,"25HC015727","SC000416232",175,"Zincato","S320GD+Z",1.48,{"v":126,"d":"126.00"},{"v":1146,"d":"1,146"},{"v":9.095238095238095,"d":"9.10"},1,null,{"$f":"IFERROR(VLOOKUP(C234,#REF!,6,FALSE),\"\")","v":""},{"$f":"IFERROR(VLOOKUP(C234,#REF!,6,FALSE),\"\")","v":""},null,{"$f":"I234","v":{"v":1146,"d":"1,146"}}]
[null,"25HC0157**","SC000416233",175,"Zincato","S320GD+Z",1.48,{"v":126,"d":"126.00"},{"v":1146,"d":"1,146"},{"v":9.095238095238095,"d":"9.10"},1,null,{"$f":"IFERROR(VLOOKUP(C235,#REF!,6,FALSE),\"\")","v":""},{"$f":"IFERROR(VLOOKUP(C235,#REF!,6,FALSE),\"\")","v":""},null,{"$f":"I235","v":{"v":1146,"d":"1,146"}}]
[null,"25HC0157**","SC000416234",175,"Zincato","S320GD+Z",1.48,{"v":126,"d":"126.00"},{"v":1146,"d":"1,146"},{"v":9.095238095238095,"d":"9.10"},1,null,{"$f":"IFERROR(VLOOKUP(C236,#REF!,6,FALSE),\"\")","v":""},{"$f":"IFERROR(VLOOKUP(C236,#REF!,6,FALSE),\"\")","v":""},null,{"$f":"I236","v":{"v":1146,"d":"1,146"}}]
[null,"025B203407","SC000416235",176,"Zincato","HX420LAD+Z",{"v":0.8,"d":"0.80"},{"v":128,"d":"128.00"},{"v":4420,"d":"4,420"},{"v":8.6328125,"d":"8.63"},4,null,{"$f":"IFERROR(VLOOKUP(C237,#REF!,6,FALSE),\"\")","v":""},{"$f":"IFERROR(VLOOKUP(C237,#REF!,6,FALSE),\"\")","v":""},null,{"$f":"IFERROR(VLOOKUP(C237,#REF!,6,FALSE),\"\")","v":""}]
[null,"025B203390","SC000416236",177,"Zincato","HX420LAD+Z",{"v":0.8,"d":"0.80"},{"v":128,"d":"128.00"},{"v":3234,"d":"3,234"},{"v":8.421875,"d":"8.42"},3,null,{"$f":"IFERROR(VLOOKUP(C238,#REF!,6,FALSE),\"\")","v":""},{"$f":"IFERROR(VLOOKUP(C238,#REF!,6,FALSE),\"\")","v":""},null,{"$f":"IFERROR(VLOOKUP(C238,#REF!,6,FALSE),\"\")","v":""}]
[null,"025G203467","SC000416237",178,"Zincato","S250GD+Z",1.01,{"v":145,"d":"145.00"},{"v":2866,"d":"2,866"},{"v":9.882758620689655,"d":"9.88"},2,null,{"$f":"IFERROR(VLOOKUP(C239,#REF!,6,FALSE),\"\")","v":""},{"$f":"IFERROR(VLOOKUP(C239,#REF!,6,FALSE),\"\")","v":""},null,{"$f":"IFERROR(VLOOKUP(C239,#REF!,6,FALSE),\"\")","v":""}]
[null,"25H8006689","SC000416238",179,"Zincato","S250GD+Z140 MAC",{"v":2.5,"d":"2.50"},{"v":132,"d":"132.00"},{"v":1365,"d":"1,365"},{"v":10.340909090909092,"d":"10.34"},1,null,{"$f":"IFERROR(VLOOKUP(C240,#REF!,6,FALSE),\"\")","v":""},{"$f":"IFERROR(VLOOKUP(C240,#REF!,6,FALSE),\"\")","v":""},null,{"$f":"IFERROR(VLOOKUP(C240,#REF!,6,FALSE),\"\")","v":""}]
[null,"025B203236","SC000416239",180,"Zincato","S320GD+Z",1.48,{"v":144,"d":"144.00"},{"v":2596,"d":"2,596"},{"v":9.01388888888889,"d":"9.01"},2,null,{"$f":"IFERROR(VLOOKUP(C241,#REF!,6,FALSE),\"\")","v":""},{"$f":"IFERROR(VLOOKUP(C241,#REF!,6,FALSE),\"\")","v":""},null,{"$f":"IFERROR(VLOOKUP(C241,#REF!,6,FALSE),\"\")","v":""}]
[null,"025G104649","SC000416240",181,"Zincato","DX51D+Z",{"v":0.8,"d":"0.80"},{"v":101,"d":"101.00"},{"v":1388,"d":"1,388"},{"v":6.871287128712871,"d":"6.87"},2,null,{"$f":"IFERROR(VLOOKUP(C242,#REF!,6,FALSE),\"\")","v":""},{"$f":"IFERROR(VLOOKUP(C242,#REF!,6,FALSE),\"\")","v":""},null,{"$f":"IFERROR(VLOOKUP(C242,#REF!,6,FALSE),\"\")","v":""}]
[null,"025G104645","SC000416241",182,"Zincato","DX51D+Z",{"v":0.8,"d":"0.80"},{"v":101,"d":"101.00"},{"v":1448,"d":"1,448"},{"v":7.1683168316831685,"d":"7.17"},2,null,{"$f":"IFERROR(VLOOKUP(C243,#REF!,6,FALSE),\"\")","v":""},{"$f":"IFERROR(VLOOKUP(C243,#REF!,6,FALSE),\"\")","v":""},null,{"$f":"IFERROR(VLOOKUP(C243,#REF!,6,FALSE),\"\")","v":""}]
[null,"025G203194","SC000416242",183,"Zincato","S320GD+Z",1.13,{"v":145,"d":"145.00"},{"v":2546,"d":"2,546"},{"v":8.779310344827586,"d":"8.78"},2,null,{"$f":"IFERROR(VLOOKUP(C244,#REF!,6,FALSE),\"\")","v":""},{"$f":"IFERROR(VLOOKUP(C244,#REF!,6,FALSE),\"\")","v":""},null,{"$f":"IFERROR(VLOOKUP(C244,#REF!,6,FALSE),\"\")","v":""}]
[null,"025G203193","SC000416243",184,"Zincato","S320GD+Z",1.13,{"v":145,"d":"145.00"},{"v":2610,"d":"2,610"},{"v":9,"d":"9.00"},2,null,{"$f":"IFERROR(VLOOKUP(C245,#REF!,6,FALSE),\"\")","v":""},{"$f":"IFERROR(VLOOKUP(C245,#REF!,6,FALSE),\"\")","v":""},null,{"$f":"IFERROR(VLOOKUP(C245,#REF!,6,FALSE),\"\")","v":""}]
[null,"25HC016290","SC000416244",185,"Zincato","S320GD+Z",{"v":1.8,"d":"1.80"},{"v":170.5,"d":"170.50"},{"v":1222,"d":"1,222"},{"v":7.167155425219941,"d":"7.17"},1,null,{"$f":"IFERROR(VLOOKUP(C246,#REF!,6,FALSE),\"\")","v":""},{"$f":"IFERROR(VLOOKUP(C246,#REF!,6,FALSE),\"\")","v":""},null,{"$f":"IFERROR(VLOOKUP(C246,#REF!,6,FALSE),\"\")","v":""}]
[null,"25HC016281","SC000416245",186,"Zincato","S320GD+Z",{"v":1.8,"d":"1.80"},{"v":170.5,"d":"170.50"},{"v":1260,"d":"1,260"},{"v":7.390029325513196,"d":"7.39"},1,null,{"$f":"IFERROR(VLOOKUP(C247,#REF!,6,FALSE),\"\")","v":""},{"$f":"IFERROR(VLOOKUP(C247,#REF!,6,FALSE),\"\")","v":""},null,{"$f":"IFERROR(VLOOKUP(C247,#REF!,6,FALSE),\"\")","v":""}]
[null,"025G203457","SC000416246",187,"Zincato","S250GD+Z",{"v":1,"d":"1.00"},{"v":145,"d":"145.00"},{"v":3368,"d":"3,368"},{"v":11.613793103448275,"d":"11.61"},2,null,{"$f":"IFERROR(VLOOKUP(C248,#REF!,6,FALSE),\"\")","v":""},{"$f":"IFERROR(VLOOKUP(C248,#REF!,6,FALSE),\"\")","v":""},null,{"$f":"IFERROR(VLOOKUP(C248,#REF!,6,FALSE),\"\")","v":""}]
[null,"025G203303","SC000416247",188,"Zincato","S250GD+Z",1.13,{"v":114,"d":"114.00"},{"v":3038,"d":"3,038"},{"v":8.883040935672515,"d":"8.88"},3,null,{"$f":"IFERROR(VLOOKUP(C249,#REF!,6,FALSE),\"\")","v":""},{"$f":"IFERROR(VLOOKUP(C249,#REF!,6,FALSE),\"\")","v":""},null,{"$f":"IFERROR(VLOOKUP(C249,#REF!,6,FALSE),\"\")","v":""}]
[null,"025G203302","SC000416248",189,"Zincato","S250GD+Z",1.13,{"v":114,"d":"114.00"},{"v":3154,"d":"3,154"},{"v":9.222222222222221,"d":"9.22"},3,null,{"$f":"IFERROR(VLOOKUP(C250,#REF!,6,FALSE),\"\")","v":""},{"$f":"IFERROR(VLOOKUP(C250,#REF!,6,FALSE),\"\")","v":""},null,{"$f":"IFERROR(VLOOKUP(C250,#REF!,6,FALSE),\"\")","v":""}]
[null,"025G203438","SC000416249",190,"Zincato","S320GD+Z",{"v":1.5,"d":"1.50"},{"v":63,"d":"63.00"},{"v":1176,"d":"1,176"},{"v":9.333333333333334,"d":"9.33"},2,null,{"$f":"IFERROR(VLOOKUP(C251,#REF!,6,FALSE),\"\")","v":""},{"$f":"IFERROR(VLOOKUP(C251,#REF!,6,FALSE),\"\")","v":""},null,{"$f":"IFERROR(VLOOKUP(C251,#REF!,6,FALSE),\"\")","v":""}]
[null,"025G203317","SC000416250",191,"Zincato","DX51D+Z",1.98,{"v":205,"d":"205.00"},{"v":1636,"d":"1,636"},{"v":3.9902439024390244,"d":"3.99"},2,null,{"$f":"IFERROR(VLOOKUP(C252,#REF!,6,FALSE),\"\")","v":""},{"$f":"IFERROR(VLOOKUP(C252,#REF!,6,FALSE),\"\")","v":""},null,{"$f":"IFERROR(VLOOKUP(C252,#REF!,6,FALSE),\"\")","v":""}]
[null,"024G217192","SC000416251",192,"Zincato","DX51D+Z",0.81,{"v":71,"d":"71.00"},{"v":1246,"d":"1,246"},{"v":8.774647887323944,"d":"8.77"},2,null,{"$f":"IFERROR(VLOOKUP(C253,#REF!,6,FALSE),\"\")","v":""},{"$f":"IFERROR(VLOOKUP(C253,#REF!,6,FALSE),\"\")","v":""},null,{"$f":"IFERROR(VLOOKUP(C253,#REF!,6,FALSE),\"\")","v":""}]
[null,"024G217220","SC000416252",193,"Zincato","DX51D+Z",{"v":0.8,"d":"0.80"},{"v":71,"d":"71.00"},{"v":1214,"d":"1,214"},{"v":8.549295774647888,"d":"8.55"},2,null,{"$f":"IFERROR(VLOOKUP(C254,#REF!,6,FALSE),\"\")","v":""},{"$f":"IFERROR(VLOOKUP(C254,#REF!,6,FALSE),\"\")","v":""},null,{"$f":"IFERROR(VLOOKUP(C254,#REF!,6,FALSE),\"\")","v":""}]
[null,"025G200033","SC000416253",194,"Zincato","S250GD+Z",{"v":2,"d":"2.00"},{"v":47,"d":"47.00"},824,{"v":8.76595744680851,"d":"8.77"},2,null,{"$f":"IFERROR(VLOOKUP(C255,#REF!,6,FALSE),\"\")","v":""},{"$f":"IFERROR(VLOOKUP(C255,#REF!,6,FALSE),\"\")","v":""},null,{"$f":"IFERROR(VLOOKUP(C255,#REF!,6,FALSE),\"\")","v":""}]
[null,"025G210745","SC000416254",195,"Zincato","S250GD+Z",0.61,{"v":81,"d":"81.00"},{"v":1402,"d":"1,402"},{"v":5.769547325102881,"d":"5.77"},3,null,{"$f":"IFERROR(VLOOKUP(C256,#REF!,6,FALSE),\"\")","v":""},{"$f":"IFERROR(VLOOKUP(C256,#REF!,6,FALSE),\"\")","v":""},null,{"$f":"IFERROR(VLOOKUP(C256,#REF!,6,FALSE),\"\")","v":""}]
[null,"024B20250*","SC000416255",196,"Zincato","HX420LAD+Z",{"v":0.8,"d":"0.80"},{"v":128,"d":"128.00"},{"v":2382,"d":"2,382"},{"v":9.3046875,"d":"9.30"},2,null,{"$f":"IFERROR(VLOOKUP(C257,#REF!,6,FALSE),\"\")","v":""},{"$f":"IFERROR(VLOOKUP(C257,#REF!,6,FALSE),\"\")","v":""},null,{"$f":"IFERROR(VLOOKUP(C257,#REF!,6,FALSE),\"\")","v":""}]
[null,"25LU024958","SC000416256",197,"Zincato","S280GD+Z275 MAC",{"v":2.4,"d":"2.40"},{"v":75,"d":"75.00"},{"v":1430,"d":"1,430"},{"v":19.066666666666666,"d":"19.07"},1,null,{"$f":"IFERROR(VLOOKUP(C258,#REF!,6,FALSE),\"\")","v":""},{"$f":"IFERROR(VLOOKUP(C258,#REF!,6,FALSE),\"\")","v":""},null,{"$f":"IFERROR(VLOOKUP(C258,#REF!,6,FALSE),\"\")","v":""}]
[null,"25LU024951","SC000416257",197,"Zincato","S280GD+Z275 MAC",{"v":2.4,"d":"2.40"},{"v":75,"d":"75.00"},{"v":1437,"d":"1,437"},{"$f":"I259/K259/H259","v":19.16},1,null,{"$f":"IFERROR(VLOOKUP(C259,#REF!,6,FALSE),\"\")","v":""},{"$f":"IFERROR(VLOOKUP(C259,#REF!,6,FALSE),\"\")","v":""},null,{"$f":"IFERROR(VLOOKUP(C259,#REF!,6,FALSE),\"\")","v":""}]
[null,"25LU024965","SC000416258",198,"Zincato","S280GD+Z275 MAC",{"v":2.4,"d":"2.40"},{"v":75,"d":"75.00"},{"v":1534,"d":"1,534"},{"v":20.453333333333333,"d":"20.45"},1,null,{"$f":"IFERROR(VLOOKUP(C260,#REF!,6,FALSE),\"\")","v":""},{"$f":"IFERROR(VLOOKUP(C260,#REF!,6,FALSE),\"\")","v":""},null,{"$f":"IFERROR(VLOOKUP(C260,#REF!,6,FALSE),\"\")","v":""}]
[null,"25H8007989","SC000416259",199,"Zincato","S320GD+Z100 MBC",{"v":1,"d":"1.00"},{"v":76.8,"d":"76.80"},{"v":1437,"d":"1,437"},{"v":18.7109375,"d":"18.71"},1,null,{"$f":"IFERROR(VLOOKUP(C261,#REF!,6,FALSE),\"\")","v":""},{"$f":"IFERROR(VLOOKUP(C261,#REF!,6,FALSE),\"\")","v":""},null,{"$f":"IFERROR(VLOOKUP(C261,#REF!,6,FALSE),\"\")","v":""}]
[null,"25H8007990","SC000416260",199,"Zincato","S320GD+Z100 MBC",{"v":1,"d":"1.00"},{"v":76.8,"d":"76.80"},{"v":1437,"d":"1,437"},{"v":18.7109375,"d":"18.71"},1,null,{"$f":"IFERROR(VLOOKUP(C262,#REF!,6,FALSE),\"\")","v":""},{"$f":"IFERROR(VLOOKUP(C262,#REF!,6,FALSE),\"\")","v":""},null,{"$f":"IFERROR(VLOOKUP(C262,#REF!,6,FALSE),\"\")","v":""}]
[null,"25H8007991","SC000416261",200,"Zincato","S320GD+Z100 MBC",{"v":1,"d":"1.00"},{"v":76.8,"d":"76.80"},{"v":1437,"d":"1,437"},{"v":18.7109375,"d":"18.71"},1,null,{"$f":"IFERROR(VLOOKUP(C263,#REF!,6,FALSE),\"\")","v":""},{"$f":"IFERROR(VLOOKUP(C263,#REF!,6,FALSE),\"\")","v":""},null,{"$f":"IFERROR(VLOOKUP(C263,#REF!,6,FALSE),\"\")","v":""}]
[null,"25H8007992","SC000416262",200,"Zincato","S320GD+Z100 MBC",{"v":1,"d":"1.00"},{"v":76.8,"d":"76.80"},{"v":1437,"d":"1,437"},{"v":18.7109375,"d":"18.71"},1,null,{"$f":"IFERROR(VLOOKUP(C264,#REF!,6,FALSE),\"\")","v":""},{"$f":"IFERROR(VLOOKUP(C264,#REF!,6,FALSE),\"\")","v":""},null,{"$f":"IFERROR(VLOOKUP(C264,#REF!,6,FALSE),\"\")","v":""}]
[null,"25H8006606","SC000416263",201,"Zincato","DX53D+Z275 MAC",{"v":2,"d":"2.00"},{"v":63,"d":"63.00"},993,{"v":15.761904761904763,"d":"15.76"},1,null,{"$f":"IFERROR(VLOOKUP(C265,#REF!,6,FALSE),\"\")","v":""},{"$f":"IFERROR(VLOOKUP(C265,#REF!,6,FALSE),\"\")","v":""},null,{"$f":"IFERROR(VLOOKUP(C265,#REF!,6,FALSE),\"\")","v":""}]
[null,"24H8027063","SC000416264",202,"Laminato a freddo","DC01",{"v":0.8,"d":"0.80"},{"v":82,"d":"82.00"},{"v":1124,"d":"1,124"},{"v":13.707317073170731,"d":"13.71"},1,null,{"$f":"IFERROR(VLOOKUP(C266,#REF!,6,FALSE),\"\")","v":""},{"$f":"IFERROR(VLOOKUP(C266,#REF!,6,FALSE),\"\")","v":""},null,{"$f":"IFERROR(VLOOKUP(C266,#REF!,6,FALSE),\"\")","v":""}]
[null,"24H8027067","SC000416265",202,"Laminato a freddo","DC01",{"v":0.8,"d":"0.80"},{"v":82,"d":"82.00"},{"v":1124,"d":"1,124"},{"v":13.707317073170731,"d":"13.71"},1,null,{"$f":"IFERROR(VLOOKUP(C267,#REF!,6,FALSE),\"\")","v":""},{"$f":"IFERROR(VLOOKUP(C267,#REF!,6,FALSE),\"\")","v":""},null,{"$f":"IFERROR(VLOOKUP(C267,#REF!,6,FALSE),\"\")","v":""}]
[null,"24H8027077","SC000416266",203,"Laminato a freddo","DC01",0.79,{"v":96,"d":"96.00"},{"v":1316,"d":"1,316"},{"v":13.708333333333334,"d":"13.71"},1,null,{"$f":"IFERROR(VLOOKUP(C268,#REF!,6,FALSE),\"\")","v":""},{"$f":"IFERROR(VLOOKUP(C268,#REF!,6,FALSE),\"\")","v":""},null,{"$f":"IFERROR(VLOOKUP(C268,#REF!,6,FALSE),\"\")","v":""}]
[null,"24H8027060","SC000416267",203,"Laminato a freddo","DC01",0.79,{"v":96,"d":"96.00"},{"v":1316,"d":"1,316"},{"v":13.708333333333334,"d":"13.71"},1,null,{"$f":"IFERROR(VLOOKUP(C269,#REF!,6,FALSE),\"\")","v":""},{"$f":"IFERROR(VLOOKUP(C269,#REF!,6,FALSE),\"\")","v":""},null,{"$f":"IFERROR(VLOOKUP(C269,#REF!,6,FALSE),\"\")","v":""}]
[null,"25H8005780","SC000416268",204,"Zincato","S220GD+Z100 MAC",1.47,{"v":79,"d":"79.00"},{"v":1386,"d":"1,386"},{"v":17.544303797468356,"d":"17.54"},1,null,{"$f":"IFERROR(VLOOKUP(C270,#REF!,6,FALSE),\"\")","v":""},{"$f":"IFERROR(VLOOKUP(C270,#REF!,6,FALSE),\"\")","v":""},null,{"$f":"IFERROR(VLOOKUP(C270,#REF!,6,FALSE),\"\")","v":""}]
[null,"25H8008295","SC000416269",205,"Zincato","S320GD+Z100 MBC",1.75,{"v":103.2,"d":"103.20"},{"v":2131,"d":"2,131"},{"v":20.64922480620155,"d":"20.65"},1,null,{"$f":"IFERROR(VLOOKUP(C271,#REF!,6,FALSE),\"\")","v":""},{"$f":"IFERROR(VLOOKUP(C271,#REF!,6,FALSE),\"\")","v":""},null,{"$f":"I271","v":{"v":2131,"d":"2,131"}}]
[null,"25H8008294","SC000416270",205,"Zincato","S320GD+Z100 MBC",1.75,{"v":103.2,"d":"103.20"},{"v":2131,"d":"2,131"},{"v":20.64922480620155,"d":"20.65"},1,null,{"$f":"IFERROR(VLOOKUP(C272,#REF!,6,FALSE),\"\")","v":""},{"$f":"IFERROR(VLOOKUP(C272,#REF!,6,FALSE),\"\")","v":""},null,{"v":2131,"d":"2,131"}]
[null,"25H8008297","SC000416271",206,"Zincato","S320GD+Z100 MBC",1.75,{"v":103.2,"d":"103.20"},{"v":2131,"d":"2,131"},{"v":20.64922480620155,"d":"20.65"},1,null,{"$f":"IFERROR(VLOOKUP(C273,#REF!,6,FALSE),\"\")","v":""},{"$f":"IFERROR(VLOOKUP(C273,#REF!,6,FALSE),\"\")","v":""},null,{"v":2131,"d":"2,131"}]
[null,"25H8008296","SC000416272",206,"Zincato","S320GD+Z100 MBC",1.75,{"v":103.2,"d":"103.20"},{"v":2131,"d":"2,131"},{"v":20.64922480620155,"d":"20.65"},1,null,{"$f":"IFERROR(VLOOKUP(C274,#REF!,6,FALSE),\"\")","v":""},{"$f":"IFERROR(VLOOKUP(C274,#REF!,6,FALSE),\"\")","v":""},null,{"v":2131,"d":"2,131"}]
[null,"25H8008305","SC000416273",207,"Zincato","S320GD+Z100 MBC",1.75,{"v":103.2,"d":"103.20"},{"v":2131,"d":"2,131"},{"v":20.64922480620155,"d":"20.65"},1,null,{"$f":"IFERROR(VLOOKUP(C275,#REF!,6,FALSE),\"\")","v":""},{"$f":"IFERROR(VLOOKUP(C275,#REF!,6,FALSE),\"\")","v":""},null,{"v":2131,"d":"2,131"}]
[null,"25H8008298","SC000416274",207,"Zincato","S320GD+Z100 MBC",1.75,{"v":103.2,"d":"103.20"},{"v":2131,"d":"2,131"},{"v":20.64922480620155,"d":"20.65"},1,null,{"$f":"IFERROR(VLOOKUP(C276,#REF!,6,FALSE),\"\")","v":""},{"$f":"IFERROR(VLOOKUP(C276,#REF!,6,FALSE),\"\")","v":""},null,{"v":2131,"d":"2,131"}]
[null,"25H8007988","SC000416275",208,"Zincato","S320GD+Z100 MBC",{"v":1,"d":"1.00"},{"v":76.8,"d":"76.80"},{"v":1437,"d":"1,437"},{"v":18.7109375,"d":"18.71"},1,null,{"$f":"IFERROR(VLOOKUP(C277,#REF!,6,FALSE),\"\")","v":""},{"$f":"IFERROR(VLOOKUP(C277,#REF!,6,FALSE),\"\")","v":""},null,{"$f":"IFERROR(VLOOKUP(C277,#REF!,6,FALSE),\"\")","v":""}]
[null,"25H8007984","SC000416276",208,"Zincato","S320GD+Z100 MBC",{"v":1,"d":"1.00"},{"v":76.8,"d":"76.80"},{"v":1437,"d":"1,437"},{"v":18.7109375,"d":"18.71"},1,null,{"$f":"IFERROR(VLOOKUP(C278,#REF!,6,FALSE),\"\")","v":""},{"$f":"IFERROR(VLOOKUP(C278,#REF!,6,FALSE),\"\")","v":""},null,{"$f":"IFERROR(VLOOKUP(C278,#REF!,6,FALSE),\"\")","v":""}]
[null,"25H8007986","SC000416277",209,"Zincato","S320GD+Z100 MBC",{"v":1,"d":"1.00"},{"v":76.8,"d":"76.80"},{"v":1437,"d":"1,437"},{"v":18.7109375,"d":"18.71"},1,null,{"$f":"IFERROR(VLOOKUP(C279,#REF!,6,FALSE),\"\")","v":""},{"$f":"IFERROR(VLOOKUP(C279,#REF!,6,FALSE),\"\")","v":""},null,{"$f":"IFERROR(VLOOKUP(C279,#REF!,6,FALSE),\"\")","v":""}]
[null,"25H8007987","SC000416278",209,"Zincato","S320GD+Z100 MBC",{"v":1,"d":"1.00"},{"v":76.8,"d":"76.80"},{"v":1437,"d":"1,437"},{"v":18.7109375,"d":"18.71"},1,null,{"$f":"IFERROR(VLOOKUP(C280,#REF!,6,FALSE),\"\")","v":""},{"$f":"IFERROR(VLOOKUP(C280,#REF!,6,FALSE),\"\")","v":""},null,{"$f":"IFERROR(VLOOKUP(C280,#REF!,6,FALSE),\"\")","v":""}]
[null,"25H8007977","SC000416279",210,"Zincato","S320GD+Z100 MBC",{"v":1,"d":"1.00"},{"v":76.8,"d":"76.80"},{"v":1437,"d":"1,437"},{"v":18.7109375,"d":"18.71"},1,null,{"$f":"IFERROR(VLOOKUP(C281,#REF!,6,FALSE),\"\")","v":""},{"$f":"IFERROR(VLOOKUP(C281,#REF!,6,FALSE),\"\")","v":""},null,{"$f":"IFERROR(VLOOKUP(C281,#REF!,6,FALSE),\"\")","v":""}]
[null,"25H8008014","SC000416280",210,"Zincato","S320GD+Z100 MBC",{"v":1,"d":"1.00"},{"v":76.8,"d":"76.80"},{"v":1437,"d":"1,437"},{"v":18.7109375,"d":"18.71"},1,null,{"$f":"IFERROR(VLOOKUP(C282,#REF!,6,FALSE),\"\")","v":""},{"$f":"IFERROR(VLOOKUP(C282,#REF!,6,FALSE),\"\")","v":""},null,{"$f":"IFERROR(VLOOKUP(C282,#REF!,6,FALSE),\"\")","v":""}]
[null,"25H8007981","SC000416281",211,"Zincato","S320GD+Z100 MBC",{"v":1,"d":"1.00"},{"v":76.8,"d":"76.80"},{"v":1437,"d":"1,437"},{"v":18.7109375,"d":"18.71"},1,null,{"$f":"IFERROR(VLOOKUP(C283,#REF!,6,FALSE),\"\")","v":""},{"$f":"IFERROR(VLOOKUP(C283,#REF!,6,FALSE),\"\")","v":""},null,{"$f":"IFERROR(VLOOKUP(C283,#REF!,6,FALSE),\"\")","v":""}]
[null,"25H8007980","SC000416282",211,"Zincato","S320GD+Z100 MBC",{"v":1,"d":"1.00"},{"v":76.8,"d":"76.80"},{"v":1437,"d":"1,437"},{"v":18.7109375,"d":"18.71"},1,null,{"$f":"IFERROR(VLOOKUP(C284,#REF!,6,FALSE),\"\")","v":""},{"$f":"IFERROR(VLOOKUP(C284,#REF!,6,FALSE),\"\")","v":""},null,{"$f":"IFERROR(VLOOKUP(C284,#REF!,6,FALSE),\"\")","v":""}]
[null,"25H8007979","SC000416283",212,"Zincato","S320GD+Z100 MBC",{"v":1,"d":"1.00"},{"v":76.8,"d":"76.80"},{"v":1437,"d":"1,437"},{"v":18.7109375,"d":"18.71"},1,null,{"$f":"IFERROR(VLOOKUP(C285,#REF!,6,FALSE),\"\")","v":""},{"$f":"IFERROR(VLOOKUP(C285,#REF!,6,FALSE),\"\")","v":""},null,{"$f":"IFERROR(VLOOKUP(C285,#REF!,6,FALSE),\"\")","v":""}]
[null,"25H8007978","SC000416284",212,"Zincato","S320GD+Z100 MBC",{"v":1,"d":"1.00"},{"v":76.8,"d":"76.80"},{"v":1437,"d":"1,437"},{"v":18.7109375,"d":"18.71"},1,null,{"$f":"IFERROR(VLOOKUP(C286,#REF!,6,FALSE),\"\")","v":""},{"$f":"IFERROR(VLOOKUP(C286,#REF!,6,FALSE),\"\")","v":""},null,{"$f":"IFERROR(VLOOKUP(C286,#REF!,6,FALSE),\"\")","v":""}]
[{"$nulls":8},{"$f":"SUBTOTAL(9,I3:I286)","v":{"v":507491,"d":"507,491"}},{"$nulls":3},{"$f":"SUBTOTAL(9,M3:M286)","v":{"v":13391,"d":"13,391"}},{"$f":"SUBTOTAL(9,N3:N286)","v":0},{"$f":"SUBTOTAL(9,O3:O286)","v":{"v":21400,"d":"21,400"}},{"$f":"SUBTOTAL(9,P3:P286)","v":{"v":23324,"d":"23,324"}}]
[{"$nulls":12},{"$f":"SUBTOTAL(9,M21:M36,M131:M133,M154:M158,M162:M165)","v":{"v":13391,"d":"13,391"}},{"$f":"SUBTOTAL(9,N12:N13,N188,N207:N209)","v":0},{"$f":"O287","v":{"v":21400,"d":"21,400"}},{"$f":"SUBTOTAL(9,P21:P24,P29:P32,P131:P133,P154,P165,P188)","v":{"v":7100,"d":"7,100"}}]